BEGIN:VCALENDAR
VERSION:2.0
PRODID:-//ChamberMaster//Event Calendar 2.0//EN
METHOD:PUBLISH
X-PUBLISHED-TTL:P3D
REFRESH-INTERVAL:P3D
CALSCALE:GREGORIAN
BEGIN:VEVENT
DTSTART:20191222T030000Z
DTEND:20191222T063000Z
X-MICROSOFT-CDO-ALLDAYEVENT:FALSE
SUMMARY:Dance Club of Grays Harbor Dance
DESCRIPTION:Dance Club of Grays Harbor's monthly dance on Dec. 21\, 2019\, at the Hoquiam Elks\, 624 K Street. Free Foxtrot lesson 7-8pm\; dance from 8-10:30pm. $10 per person. Food and beverages available through the Elks. Live music by Michael & Leslie!
X-ALT-DESC;FMTTYPE=text/html:Dance Club of Grays Harbor&#39\;s monthly dance on Dec. 21\, 2019\, at the Hoquiam Elks\, 624 K Street. Free Foxtrot lesson 7-8pm\; dance from 8-10:30pm. $10 per person. Food and beverages available through the Elks. Live music by Michael &amp\; Leslie!
LOCATION:
UID:e.26.12316
SEQUENCE:3
DTSTAMP:20260424T042337Z
URL:https://chamber.graysharbor.org/events/details/dance-club-of-grays-harbor-dance-12-21-2019-12316
END:VEVENT

END:VCALENDAR
