BEGIN:VCALENDAR
VERSION:2.0
PRODID:-//ChamberMaster//Event Calendar 2.0//EN
METHOD:PUBLISH
X-PUBLISHED-TTL:P3D
REFRESH-INTERVAL:P3D
CALSCALE:GREGORIAN
BEGIN:VEVENT
DTSTART;VALUE=DATE:20190510
DTEND;VALUE=DATE:20190512
TRANSP:TRANSPARENT
X-MICROSOFT-CDO-ALLDAYEVENT:TRUE
SUMMARY:Danny Boy & Kelly Girl
DESCRIPTION:A mixture of Irish and Folk with some traditional pop at Galway Bay Irish Restaurant and Pub! A fun evening for all.
X-ALT-DESC;FMTTYPE=text/html:<span style="caret-color: rgb(29\, 33\, 41)\; color: rgb(29\, 33\, 41)\; font-family: system-ui\, -apple-system\, BlinkMacSystemFont\, &quot\;.SFNSText-Regular&quot\;\, sans-serif\; font-size: 14px\; white-space: pre-wrap\;">A mixture of Irish and Folk with some traditional pop at Galway Bay Irish Restaurant and Pub! A fun evening for all.</span>
LOCATION:pin Galway Bay Irish Restaurant & Pub 880 Point Brown Ave NE\, Ocean Shores\, Washington 98569
UID:e.26.11852
SEQUENCE:3
DTSTAMP:20260424T133043Z
URL:https://chamber.graysharbor.org/events/details/danny-boy-kelly-girl-11852
END:VEVENT

END:VCALENDAR
