BEGIN:VCALENDAR
VERSION:2.0
PRODID:-//ChamberMaster//Event Calendar 2.0//EN
METHOD:PUBLISH
X-PUBLISHED-TTL:P3D
REFRESH-INTERVAL:P3D
CALSCALE:GREGORIAN
BEGIN:VEVENT
DTSTART:20171116T013000Z
DTEND:20171116T033000Z
X-MICROSOFT-CDO-ALLDAYEVENT:FALSE
SUMMARY:Darkness 2 Light
DESCRIPTION:Adult education is key to preventing child sexual abuse.\n\n\n\n1 out of 10 children will be sexually abused before they turn 18. Chances are\, someone you know has been impacted. Research shows that people who are sexually violated as children are far more likely to experience psychological problems often lasting into adulthood\, including post-traumatic stress syndrome\, depression\, suicide\, substance abuse\, teen pregnancy\, school dropout and relationship problems.\n\n\n\nDarkness to Light understands that learning the facts about childhood sexual abuse helps prevent it. Talking about it helps prevent it. Getting involved helps prevent it. The truth is\, if childhood sexual abuse can be prevented\, it can be stopped.\n\nAdult education is key to preventing child sexual abuse.\n\n\n\n1 out of 10 children will be sexually abused before they turn 18. Chances are\, someone you know has been impacted. Research shows that people who are sexually violated as children are far more likely to experience psychological problems often lasting into adulthood\, including post-traumatic stress syndrome\, depression\, suicide\, substance abuse\, teen pregnancy\, school dropout and relationship problems.\n\n\n\nDarkness to Light understands that learning the facts about childhood sexual abuse helps prevent it. Talking about it helps prevent it. Getting involved helps prevent it. The truth is\, if childhood sexual abuse can be prevented\, it can be stopped.\n\n\n\nThat's why we exist\, to empower adults through awareness and educational programs to prevent\, recognize\, and react responsibly to child sexual abuse.\n\n\n\nThat's why we exist\, to empower adults through awareness and educational programs to prevent\, recognize\, and react responsibly to child sexual abuse.\n\nSue Bucy\n\nConnections "A Center For Healthy Families" \n\nformerly known as Children's Advocacy Center of Grays Harbor_Director\n\n360-249-0005 x106\n\n\n\n	Causes
X-ALT-DESC;FMTTYPE=text/html:<div class="_2qgs" style="color: rgb(75\, 79\, 86)\; padding: 12px\; position: relative\; border-top: none\; font-family: Helvetica\, Arial\, sans-serif\; font-size: 12px\;"><span class="_4n-j _3cht fsl" data-testid="event-permalink-details" style="font-size: 14px\; font-family: inherit\;"><strong>Adult education is key to preventing child sexual abuse.</strong><br />\n<br />\n1 out of 10 children will be sexually abused before they turn 18. Chances are\, someone you know has been impacted. Research shows that people who are sexually violated as children are far more likely to experience psychological problems often lasting into adulthood\, including post-traumatic stress syndrome\, depression\, suicide\, substance abuse\, teen pregnancy\, school dropout and relationship problems.<br />\n<br />\nDarkness to Light understands that learning the facts about childhood sexual abuse helps prevent it. Talking about it helps prevent it. Getting involved helps prevent it. The truth is\, if childhood sexual abuse can be prevented\, it can be stopped.<br />\nAdult ed<span class="text_exposed_show" style="display: inline\; font-family: inherit\;">ucation is key to preventing child sexual abuse.<br />\n<br />\n1 out of 10 children will be sexually abused before they turn 18. Chances are\, someone you know has been impacted. Research shows that people who are sexually violated as children are far more likely to experience psychological problems often lasting into adulthood\, including post-traumatic stress syndrome\, depression\, suicide\, substance abuse\, teen pregnancy\, school dropout and relationship problems.<br />\n<br />\nDarkness to Light understands that learning the facts about childhood sexual abuse helps prevent it. Talking about it helps prevent it. Getting involved helps prevent it. The truth is\, if childhood sexual abuse can be prevented\, it can be stopped.<br />\n<br />\nThat&rsquo\;s why we exist\, to empower adults through awareness and educational programs to prevent\, recognize\, and react responsibly to child sexual abuse.<br />\n<br />\nThat&rsquo\;s why we exist\, to empower adults through awareness and educational programs to prevent\, recognize\, and react responsibly to child sexual abuse.<br />\nSue Bucy<br />\nConnections &quot\;A Center For Healthy Families&quot\;&nbsp\;<br />\nformerly known as Children&#39\;s Advocacy Center of Grays Harbor_Director<br />\n360-249-0005 x106</span></span></div>\n\n<div class="_1r51" style="line-height: 24px\; margin: 4px 12px 12px\; min-height: 24px\; font-family: Helvetica\, Arial\, sans-serif\; color: rgb(29\, 33\, 41)\; font-size: 12px\;">\n<ul class="uiList uiCollapsedList uiCollapsedListHidden _509- _4ki" id="u_jsonp_2_m" style="list-style-type: none\; margin: 0px\; padding: 0px\;">\n	<li style="border-width: 0px\; display: inline-block\; vertical-align: top\;"><a href="https://www.facebook.com/events/discovery/?acontext=%7B%22ref%22%3A44%2C%22unit_ref%22%3A%22related_events%22%2C%22source%22%3A1%2C%22action_history%22%3A%22%5B%7B%5C%22surface%5C%22%3A%5C%22permalink%5C%22%2C%5C%22mechanism%5C%22%3A%5C%22RHC%5C%22%2C%5C%22extra_data%5C%22%3A%5B%5D%7D%2C%7B%5C%22surface%5C%22%3A%5C%22permalink%5C%22%2C%5C%22mechanism%5C%22%3A%5C%22surface%5C%22%2C%5C%22extra_data%5C%22%3A%5B%5D%7D%2C%7B%5C%22surface%5C%22%3A%5C%22permalink%5C%22%2C%5C%22mechanism%5C%22%3A%5C%22event_information%5C%22%2C%5C%22extra_data%5C%22%3A%7B%5C%22tag%5C%22%3A%5C%22Causes%5C%22%7D%7D%5D%22%2C%22has_source%22%3Atrue%7D&amp\;suggestion_token=%7B%22event_categories%22%3A%5B1284277608291920%5D%7D" style="color: rgb(54\, 88\, 153)\; cursor: pointer\; text-decoration-line: none\; font-family: inherit\;"><span class="_47od" style="background-color: rgb(237\, 242\, 250)\; border-radius: 2px\; color: rgb(32\, 55\, 95)\; display: block\; height: 14px\; line-height: 14px\; margin: 0px 4px 4px 0px\; padding: 4px 6px\; position: relative\; font-family: inherit\;">Causes</span></a></li>\n</ul>\n</div>\n
LOCATION:1017 South Boone St. Aberdeen\, WA
UID:e.26.8332
SEQUENCE:3
DTSTAMP:20260425T180943Z
URL:https://chamber.graysharbor.org/events/details/darkness-2-light-8332
END:VEVENT

END:VCALENDAR
