BEGIN:VCALENDAR
VERSION:2.0
PRODID:-//ChamberMaster//Event Calendar 2.0//EN
METHOD:PUBLISH
X-PUBLISHED-TTL:P3D
REFRESH-INTERVAL:P3D
CALSCALE:GREGORIAN
BEGIN:VEVENT
DTSTART:20170617T213000Z
DTEND:20170617T230000Z
X-MICROSOFT-CDO-ALLDAYEVENT:FALSE
SUMMARY:Dash for Wellness 5k/3k
DESCRIPTION:Come support Miss Grays Harbor\, Ariana Barré\, and her platform "Promoting a Culture of Wellness"\, by participating in a fun-run/walk!\n\n\n\nAll profits raised will be benefiting the new Summit Pacific Wellness Center!
X-ALT-DESC;FMTTYPE=text/html:<span class="_4n-j _3cht fsl" data-testid="event-permalink-details">Come support Miss Grays Harbor\, Ariana Barré\, and her platform "Promoting a Culture of Wellness"\, by participating in a fun-run/walk!<br>\n<br>\nAll profits raised will be benefiting the new <strong><em>Summit Pacific Wellness Center</em></strong>!</span><br>\n&nbsp\;
LOCATION:Makarenko Park Cosmopolis\, WA
UID:e.26.7711
SEQUENCE:3
DTSTAMP:20260426T015438Z
URL:https://chamber.graysharbor.org/events/details/dash-for-wellness-5k-3k-7711
END:VEVENT

END:VCALENDAR
