BEGIN:VCALENDAR
VERSION:2.0
PRODID:-//ChamberMaster//Event Calendar 2.0//EN
METHOD:PUBLISH
X-PUBLISHED-TTL:P3D
REFRESH-INTERVAL:P3D
CALSCALE:GREGORIAN
BEGIN:VEVENT
DTSTART:20171118T210000Z
DTEND:20171119T000000Z
X-MICROSOFT-CDO-ALLDAYEVENT:FALSE
SUMMARY:David Jepsen's "Contested Boundaries" Lecture
DESCRIPTION:David Jepsen's "Contested Boundaries" Lecture\nThe Polson Museum invites the public on Saturday\, November 18 at 1 p.m. to hear David Jepsen\, lead author of "Contested Boundaries: a New Pacific Northwest History"\, who will speak about his new book with an emphasis on our region's labor history prior to 1919.\n\n\n\nJepsen\, and his coauthor David Norberg\, argue that the history of the Pacific Northwest is a two-centuries-old conflict between people and governments struggling for control over the region's land and resources. Jepsen promises compelling\, dramatic and humorous stories about people of all colors and classes contesting the political\, economic\, and social barriers that blocked their path to equality and full participation in the region's society.\n\n\n\nThis lecture is given free of charge and will be presented at the Polson Museum\, 1611 Riverside Avenue\, Hoquiam. For more information on this or any other Polson programs\, please call 360-533-5862.
X-ALT-DESC;FMTTYPE=text/html:<h1 class="_5gmx" data-testid="event-permalink-event-name" id="seo_h1_tag" style="color: rgb(29\, 33\, 41)\; font-size: 20px\; margin: 0px 12px 0px 0px\; padding: 0px\; font-weight: normal\; line-height: 28px\; font-family: Helvetica\, Arial\, sans-serif\; background-color: rgb(255\, 255\, 255)\;">David Jepsen&#39\;s &quot\;Contested Boundaries&quot\; Lecture</h1>\n<span style="color: rgb(75\, 79\, 86)\; font-family: Helvetica\, Arial\, sans-serif\; font-size: 14px\; background-color: rgb(255\, 255\, 255)\;">The Polson Museum invites the public on Saturday\, November 18 at 1 p.m. to hear David Jepsen\, lead author of &quot\;Contested Boundaries: a New Pacific Northwest History&quot\;\, who will speak about his new book with an emphasis on our region&rsquo\;s labor history prior to 1919.</span><br style="color: rgb(75\, 79\, 86)\; font-family: Helvetica\, Arial\, sans-serif\; font-size: 14px\; background-color: rgb(255\, 255\, 255)\;" />\n<br style="color: rgb(75\, 79\, 86)\; font-family: Helvetica\, Arial\, sans-serif\; font-size: 14px\; background-color: rgb(255\, 255\, 255)\;" />\n<span style="color: rgb(75\, 79\, 86)\; font-family: Helvetica\, Arial\, sans-serif\; font-size: 14px\; background-color: rgb(255\, 255\, 255)\;">Jepsen\, and his coauthor David Norberg\, argue that the history of the Pacific Northwest is a two-centuries-old conflict between people and governments struggling for control over the region&rsquo\;s land and resources. Jepsen promises compelling\, dramatic and humorous stories about people of all colors and classes contesting the political\, economic\, and social barriers that blocked their path to equality and full participation in the region&rsquo\;s society.</span><br style="color: rgb(75\, 79\, 86)\; font-family: Helvetica\, Arial\, sans-serif\; font-size: 14px\; background-color: rgb(255\, 255\, 255)\;" />\n<br style="color: rgb(75\, 79\, 86)\; font-family: Helvetica\, Arial\, sans-serif\; font-size: 14px\; background-color: rgb(255\, 255\, 255)\;" />\n<span style="color: rgb(75\, 79\, 86)\; font-family: Helvetica\, Arial\, sans-serif\; font-size: 14px\; background-color: rgb(255\, 255\, 255)\;">This lecture is given free of charge and will be presented at the Polson Museum\, 1611 Riverside Avenue\, Hoquiam. For more information on this or any other Polson programs\, please call 360-533-5862.</span>
LOCATION:Polson Museum 1611 Riverside Ave. Hoquiam\, WA
UID:e.26.8360
SEQUENCE:3
DTSTAMP:20260425T181003Z
URL:https://chamber.graysharbor.org/events/details/david-jepsen-s-contested-boundaries-lecture-8360
END:VEVENT

END:VCALENDAR
