BEGIN:VCALENDAR
VERSION:2.0
PRODID:-//ChamberMaster//Event Calendar 2.0//EN
METHOD:PUBLISH
X-PUBLISHED-TTL:P3D
REFRESH-INTERVAL:P3D
CALSCALE:GREGORIAN
BEGIN:VEVENT
DTSTART;VALUE=DATE:20191212
DTEND;VALUE=DATE:20191216
TRANSP:TRANSPARENT
X-MICROSOFT-CDO-ALLDAYEVENT:TRUE
SUMMARY:Days of Magic 2019 WinterFest South Pole
DESCRIPTION:Join us for two weeks of magic as we explore the wonderful world of Harry Potter. Featuring tours of Lady Washington\, live music\, magic\, arts and crafts. There is something for everyone! Activities are different each day.
X-ALT-DESC;FMTTYPE=text/html:<span style="caret-color: rgb(29\, 33\, 41)\; color: rgb(29\, 33\, 41)\; font-family: system-ui\, -apple-system\, BlinkMacSystemFont\, &quot\;.SFNSText-Regular&quot\;\, sans-serif\; font-size: 14px\; white-space: pre-wrap\;">Join us for two weeks of magic as we explore the wonderful world of Harry Potter. Featuring tours of Lady Washington\, live music\, magic\, arts and crafts. There is something for everyone! Activities are different each day.</span>
LOCATION:pin Seaport Landing 500 N Custer St\, Aberdeen\, Washington 98520
UID:e.26.12297
SEQUENCE:3
DTSTAMP:20260424T042200Z
URL:https://chamber.graysharbor.org/events/details/days-of-magic-2019-winterfest-south-pole-12297
END:VEVENT

END:VCALENDAR
