BEGIN:VCALENDAR
VERSION:2.0
PRODID:-//ChamberMaster//Event Calendar 2.0//EN
METHOD:PUBLISH
X-PUBLISHED-TTL:P3D
REFRESH-INTERVAL:P3D
CALSCALE:GREGORIAN
BEGIN:VEVENT
DTSTART:20171213T013000Z
DTEND:20171213T030000Z
X-MICROSOFT-CDO-ALLDAYEVENT:FALSE
SUMMARY:December Business After Hours
DESCRIPTION:Join in on the holiday celebrations at Artic Pub & RV Park for some festive networking! We have the privilege of gathering for the December Business After Hours in a fun setting to learn more about their business and why they enjoy operating in Grays Harbor. We look forward to celebrating with you!\n\n\n\nBusiness After Hours is a free event that offers members and prospective members alike the chance to meet colleagues in an engaging and unique atmosphere. Each month our host presents the attendees with an opportunity to introduce their business or products in their own distinctive manner. There is sure to be great conversation and connecting at the December Business After Hours!
X-ALT-DESC;FMTTYPE=text/html:<span style="color: rgb(75\, 79\, 86)\; font-family: Helvetica\, Arial\, sans-serif\; font-size: 14px\; background-color: rgb(255\, 255\, 255)\;">Join in on the holiday celebrations at Artic Pub &amp\; RV Park for some festive networking! We have the privilege of gathering for the December Business After Hours in a fun setting to learn more about their business and why they enjoy operating in Grays Harbor. We look forward to celebrating with you!</span><br style="color: rgb(75\, 79\, 86)\; font-family: Helvetica\, Arial\, sans-serif\; font-size: 14px\; background-color: rgb(255\, 255\, 255)\;" />\n<br style="color: rgb(75\, 79\, 86)\; font-family: Helvetica\, Arial\, sans-serif\; font-size: 14px\; background-color: rgb(255\, 255\, 255)\;" />\n<span style="color: rgb(75\, 79\, 86)\; font-family: Helvetica\, Arial\, sans-serif\; font-size: 14px\; background-color: rgb(255\, 255\, 255)\;">Business After Hours is a free event that offers members and prospective members alike the chance to meet colleagues in an engaging and unique atmosphere. Each month our host presents the attendees with an opportunity to introduce their business or products in their own distinctive manner. There is sure to be great conversation and connecting at the December Business After Hours!</span>
LOCATION:Artic Pub & RV Park 905 US 101 Cosmopolis\, WA 98537
UID:e.26.9397
SEQUENCE:3
DTSTAMP:20260425T163801Z
URL:https://chamber.graysharbor.org/events/details/december-business-after-hours-9397
END:VEVENT

END:VCALENDAR
