BEGIN:VCALENDAR
VERSION:2.0
PRODID:-//ChamberMaster//Event Calendar 2.0//EN
METHOD:PUBLISH
X-PUBLISHED-TTL:P3D
REFRESH-INTERVAL:P3D
CALSCALE:GREGORIAN
BEGIN:VEVENT
DTSTART:20191217T020000Z
DTEND:20191217T040000Z
X-MICROSOFT-CDO-ALLDAYEVENT:FALSE
SUMMARY:December Gathering
DESCRIPTION:'Tis the holiday season. Gather with like-minded folk for stories libation\, and friendship. Christmas\, Hanukkah\, Kwanzaa\, Festivus for the Rest of Us! Bring a friend.
X-ALT-DESC;FMTTYPE=text/html:<span style="caret-color: rgb(29\, 33\, 41)\; color: rgb(29\, 33\, 41)\; font-family: system-ui\, -apple-system\, BlinkMacSystemFont\, &quot\;.SFNSText-Regular&quot\;\, sans-serif\; font-size: 14px\; white-space: pre-wrap\;">&#39\;Tis the holiday season. Gather with like-minded folk for stories libation\, and friendship. Christmas\, Hanukkah\, Kwanzaa\, Festivus for the Rest of Us! Bring a friend.</span>
LOCATION:pin GH Wine Sellars 206 S Broadway St\, Aberdeen\, Washington 98520
UID:e.26.12319
SEQUENCE:3
DTSTAMP:20260424T024931Z
URL:https://chamber.graysharbor.org/events/details/december-gathering-12319
END:VEVENT

END:VCALENDAR
