BEGIN:VCALENDAR
VERSION:2.0
PRODID:-//ChamberMaster//Event Calendar 2.0//EN
METHOD:PUBLISH
X-PUBLISHED-TTL:P3D
REFRESH-INTERVAL:P3D
CALSCALE:GREGORIAN
BEGIN:VEVENT
DTSTART:20171216T010000Z
DTEND:20171216T050000Z
X-MICROSOFT-CDO-ALLDAYEVENT:FALSE
SUMMARY:December to Remember at Oyhut Bay
DESCRIPTION:Join Oyhut Bay in welcoming Santa Clause to the Village Square Friday\, December 15th at 5 p.m.\n\n\n\nOyhut Bay is partnering with the Coastal Interpretive Center and KOSW 91.3 radio for a "December to Remember" event.\n\nSanta is scheduled to arrive in the Village Square at 5 pm courtesy of one of Ed Duncans Classic Hot Rods.\n\nThe Village Square will be decorated with trees selected from Beerbowers Tree Farm in Elma.\n\nFun features of the evening include free photo opportunities with Santa in the Sales Office From 530-7. A holiday pet costume contest at 7 pm hosted by KOSW FM. Upstairs in the Wellness Activity Center\, you can enjoy holiday face painting\, sand dollar ornament making\, and storytime courtesy of the Coastal Interpretive Center. Enjoy "Spirits with Santa" in the Loft Martini and Wine Bar at 8 pm to offer some 21 plus fun. Bring your cameras\, wear your holiday sweaters and spend the evening at Oyhut Bay Seaside Village.\n\n\n\n	Party\n	Kid Friendly
X-ALT-DESC;FMTTYPE=text/html:<div class="_2qgs" style="color: rgb(75\, 79\, 86)\; padding: 12px\; position: relative\; border-top: none\; font-family: Helvetica\, Arial\, sans-serif\; font-size: 12px\;"><span class="_4n-j _fbReactionComponent__eventDetailsContentTags fsl" data-testid="event-permalink-details" style="font-size: 14px\; font-family: inherit\;">Join Oyhut Bay in welcoming Santa Clause to the Village Square Friday\, December 15th at 5 p.m.<br />\n<br />\nOyhut Bay is partnering with the Coastal Interpretive Center and KOSW 91.3 radio for a &ldquo\;December to Remember&rdquo\; event.<br />\nSanta is scheduled to arrive in the Village Square at 5 pm courtesy of one of Ed Duncans Classic Hot Rods.<br />\nThe Village Square will be decorated with trees selected from Beerbowers Tree Farm in Elma.<br />\nFun features of the evening include free photo opportunities with Santa in the Sales Office From 530-7. A holiday pet costume contest at 7 pm hosted by KOSW FM. Upstairs in the Wellness Activity Center\, you can enjoy holiday face painting\, sand dollar ornament making\, and storytime courtesy of the Coastal Interpretive Center. Enjoy &ldquo\;Spirits with Santa&rdquo\; in the Loft Martini and Wine Bar at 8 pm to offer some 21 plus fun. Bring your cameras\, wear your holiday sweaters and spend the evening at Oyhut Bay Seaside Village.</span></div>\n\n<div class="_1r51" style="line-height: 24px\; margin: 4px 12px 12px\; min-height: 24px\; font-family: Helvetica\, Arial\, sans-serif\; color: rgb(29\, 33\, 41)\; font-size: 12px\;">\n<ul class="uiList uiCollapsedList uiCollapsedListHidden _509- _4ki" id="u_jsonp_7_o" style="list-style-type: none\; margin: 0px\; padding: 0px\;">\n	<li style="border-width: 0px\; display: inline-block\; vertical-align: top\;"><a href="https://www.facebook.com/events/discovery/?acontext=%7B%22source%22%3A1%2C%22page_id_source%22%3A730089360344773%2C%22action_history%22%3A%22%5B%7B%5C%22surface%5C%22%3A%5C%22page%5C%22%2C%5C%22mechanism%5C%22%3A%5C%22main_list%5C%22%2C%5C%22extra_data%5C%22%3A%5C%22%7B%5C%5C%5C%22page_id%5C%5C%5C%22%3A730089360344773%2C%5C%5C%5C%22tour_id%5C%5C%5C%22%3Anull%7D%5C%22%7D%2C%7B%5C%22surface%5C%22%3A%5C%22permalink%5C%22%2C%5C%22mechanism%5C%22%3A%5C%22surface%5C%22%2C%5C%22extra_data%5C%22%3A%5B%5D%7D%2C%7B%5C%22surface%5C%22%3A%5C%22permalink%5C%22%2C%5C%22mechanism%5C%22%3A%5C%22event_information%5C%22%2C%5C%22extra_data%5C%22%3A%7B%5C%22tag%5C%22%3A%5C%22Party%5C%22%7D%7D%5D%22%2C%22has_source%22%3Atrue%7D&amp\;suggestion_token=%7B%22event_categories%22%3A%5B183019258855149%5D%7D" style="color: rgb(54\, 88\, 153)\; cursor: pointer\; text-decoration-line: none\; font-family: inherit\;"><span class="_47od" style="background-color: rgb(237\, 242\, 250)\; border-radius: 2px\; color: rgb(32\, 55\, 95)\; display: block\; height: 14px\; line-height: 14px\; margin: 0px 4px 4px 0px\; padding: 4px 6px\; position: relative\; font-family: inherit\;">Party</span></a></li>\n	<li style="border-width: 0px 0px 0px 1px\; display: inline-block\; vertical-align: top\;"><a href="https://www.facebook.com/events/discovery/?acontext=%7B%22source%22%3A1%2C%22page_id_source%22%3A730089360344773%2C%22action_history%22%3A%22%5B%7B%5C%22surface%5C%22%3A%5C%22page%5C%22%2C%5C%22mechanism%5C%22%3A%5C%22main_list%5C%22%2C%5C%22extra_data%5C%22%3A%5C%22%7B%5C%5C%5C%22page_id%5C%5C%5C%22%3A730089360344773%2C%5C%5C%5C%22tour_id%5C%5C%5C%22%3Anull%7D%5C%22%7D%2C%7B%5C%22surface%5C%22%3A%5C%22permalink%5C%22%2C%5C%22mechanism%5C%22%3A%5C%22surface%5C%22%2C%5C%22extra_data%5C%22%3A%5B%5D%7D%2C%7B%5C%22surface%5C%22%3A%5C%22permalink%5C%22%2C%5C%22mechanism%5C%22%3A%5C%22event_information%5C%22%2C%5C%22extra_data%5C%22%3A%7B%5C%22tag%5C%22%3A%5C%22Kid+Friendly%5C%22%7D%7D%5D%22%2C%22has_source%22%3Atrue%7D&amp\;suggestion_token=%7B%22event_flags%22%3A%5B%22family_friendly%22%5D%7D" style="color: rgb(54\, 88\, 153)\; cursor: pointer\; text-decoration-line: none\; font-family: inherit\;"><span class="_47od" style="background-color: rgb(237\, 242\, 250)\; border-radius: 2px\; color: rgb(32\, 55\, 95)\; display: block\; height: 14px\; line-height: 14px\; margin: 0px 4px 4px 0px\; padding: 4px 6px\; position: relative\; font-family: inherit\;">Kid Friendly</span></a></li>\n</ul>\n</div>\n
LOCATION:Oyhut Bay Ocean Shores\, WA
UID:e.26.8375
SEQUENCE:3
DTSTAMP:20260425T163838Z
URL:https://chamber.graysharbor.org/events/details/december-to-remember-at-oyhut-bay-8375
END:VEVENT

END:VCALENDAR
