BEGIN:VCALENDAR
VERSION:2.0
PRODID:-//ChamberMaster//Event Calendar 2.0//EN
METHOD:PUBLISH
X-PUBLISHED-TTL:P3D
REFRESH-INTERVAL:P3D
CALSCALE:GREGORIAN
BEGIN:VEVENT
DTSTART:20191130T033000Z
DTEND:20191201T050000Z
X-MICROSOFT-CDO-ALLDAYEVENT:FALSE
SUMMARY:Deck the Halls (2006) at 7th St.
DESCRIPTION:When the Christmas lights go on\, the gloves come off in this holiday comedy starring Matthew Broderick and Danny DeVito.\n\nSteve Finch (Matthew Broderick) was "Mr. Christmas"   until the competition moved in. Now he and neighbor Buddy Hall (Danny DeVito) are going head to head for the holidays. But the holidays may not be big enough for both of them. \n\nDetermined to one-up each other\, both men pull out all the stops in a fantastic holiday decor free-for-all that turns their small New England town   and even outer space   upside down. \n\nWill they declare a truce long enough to discover the true meaning of Christmas?\n\nLocally sponsored by Grays Harbor College\, Harrison Family Mortuaries\, Pasha Automotive Services\, Wunderland Childcare Centers\, Jodesha Broadcasting and Alpha Media Grays Harbor.
X-ALT-DESC;FMTTYPE=text/html:<h2 style="box-sizing: border-box\; font-family: &quot\;Helvetica Neue&quot\;\, Helvetica\, Arial\, sans-serif\; line-height: 1.1\; margin-top: 20px\; margin-bottom: 10px\; font-size: 30px\;"><span style="font-size:14px\;"><span style="font-family:arial\;">When the Christmas lights go on\, the gloves come off in this holiday comedy starring Matthew Broderick and Danny DeVito.</span></span></h2>\n\n<p style="box-sizing: border-box\; margin: 0px 0px 10px\; font-family: &quot\;Helvetica Neue&quot\;\, Helvetica\, Arial\, sans-serif\; font-size: 14px\;"><span style="font-size:14px\;"><span style="font-family:arial\;">Steve Finch (Matthew Broderick) was &ldquo\;Mr. Christmas&rdquo\; &ndash\; until the competition moved in. Now he and neighbor Buddy Hall (Danny DeVito) are going head to head for the holidays. But the holidays may not be big enough for both of them.&nbsp\;</span></span></p>\n\n<p style="box-sizing: border-box\; margin: 0px 0px 10px\; font-family: &quot\;Helvetica Neue&quot\;\, Helvetica\, Arial\, sans-serif\; font-size: 14px\;"><span style="font-size:14px\;"><span style="font-family:arial\;">Determined to one-up each other\, both men pull out all the stops in a fantastic holiday decor free-for-all that turns their small New England town &ndash\; and even outer space &ndash\; upside down.&nbsp\;</span></span></p>\n\n<p style="box-sizing: border-box\; margin: 0px 0px 10px\; font-family: &quot\;Helvetica Neue&quot\;\, Helvetica\, Arial\, sans-serif\; font-size: 14px\;"><span style="font-size:14px\;"><span style="font-family:arial\;">Will they declare a truce long enough to discover the true meaning of Christmas?</span></span></p>\n\n<p style="box-sizing: border-box\; margin: 0px 0px 10px\; font-family: &quot\;Helvetica Neue&quot\;\, Helvetica\, Arial\, sans-serif\; font-size: 14px\;"><span style="font-size:14px\;"><span style="font-family:arial\;">Locally sponsored by Grays Harbor College\, Harrison Family Mortuaries\, Pasha Automotive Services\, Wunderland Childcare Centers\, Jodesha Broadcasting and Alpha Media Grays Harbor.</span></span></p>\n
LOCATION:7th St. Theatre Hoquiam\, WA
UID:e.26.12278
SEQUENCE:3
DTSTAMP:20260424T041949Z
URL:https://chamber.graysharbor.org/events/details/deck-the-halls-2006-at-7th-st-12278
END:VEVENT

END:VCALENDAR
