BEGIN:VCALENDAR
VERSION:2.0
PRODID:-//ChamberMaster//Event Calendar 2.0//EN
METHOD:PUBLISH
X-PUBLISHED-TTL:P3D
REFRESH-INTERVAL:P3D
CALSCALE:GREGORIAN
BEGIN:VEVENT
DTSTART:20190414T023000Z
DTEND:20190414T040000Z
X-MICROSOFT-CDO-ALLDAYEVENT:FALSE
SUMMARY:Derina Harvey Band
DESCRIPTION:Fearless front-woman Derina Harvey leads the Alberta-based Celtic-rock act\, Derina Harvey Band. The rocky\, rhythmic undertow is layered with guitars\, fiddle\, and topped by Derina's powerful voice. Recent recipients of the People's Choice Award at the 2018 Edmonton Music Awards\, these transplanted east-coasters have earned a reputation with the high energy live show\, leaving many an audience out-of-breathe and hollering from their seats.
X-ALT-DESC;FMTTYPE=text/html:<span style="font-size: 16px\; caret-color: rgb(41\, 43\, 44)\; color: rgb(41\, 43\, 44)\; font-family: Lato\, sans-serif\; background-color: rgb(255\, 255\, 255)\;">Fearless front-woman Derina Harvey leads the Alberta-based Celtic-rock act\,&nbsp\;</span><span style="font-size: 16px\; box-sizing: inherit\; caret-color: rgb(41\, 43\, 44)\; color: rgb(41\, 43\, 44)\; font-family: Lato\, sans-serif\;">Derina Harvey Band.&nbsp\;</span><span style="font-size: 16px\; caret-color: rgb(41\, 43\, 44)\; color: rgb(41\, 43\, 44)\; font-family: Lato\, sans-serif\; background-color: rgb(255\, 255\, 255)\;">The rocky\, rhythmic undertow is layered with guitars\, fiddle\, and topped by Derina&#39\;s powerful voice. Recent recipients of the People&#39\;s Choice Award at the 2018 Edmonton Music Awards\, these transplanted east-coasters have earned a reputation with the high energy live show\, leaving many an audience out-of-breathe and hollering from their seats.</span>
LOCATION:Bishop Center for the Performing Arts 1620 Edward P. Smith Dr. Aberdeen\, WA
UID:e.26.11666
SEQUENCE:3
DTSTAMP:20260424T151022Z
URL:https://chamber.graysharbor.org/events/details/derina-harvey-band-11666
END:VEVENT

END:VCALENDAR
