BEGIN:VCALENDAR
VERSION:2.0
PRODID:-//ChamberMaster//Event Calendar 2.0//EN
METHOD:PUBLISH
X-PUBLISHED-TTL:P3D
REFRESH-INTERVAL:P3D
CALSCALE:GREGORIAN
BEGIN:VEVENT
DTSTART:20170617T163000Z
DTEND:20170617T193000Z
X-MICROSOFT-CDO-ALLDAYEVENT:FALSE
SUMMARY:Different-Abilities Walk\, Roll & Stroll
DESCRIPTION:The 3rd Annual walk is for ALL ages and abilities! All inclusive and FUN! Come share a great morning of fun and enjoyment!\n\n\n\nPre-registration due by May 29th - will guarantee a shirt from this year's event! For more information and to register email Barb at barbmgeorge@gmail.com
X-ALT-DESC;FMTTYPE=text/html:The 3rd Annual walk is for ALL ages and abilities! All inclusive and FUN! Come share a great morning of fun and enjoyment!<br />\n<br />\n<strong>Pre-registration due by May 29th - </strong>will guarantee a shirt from this year&#39\;s event! For more information and to register email Barb at <a href="mailto:barbmgeorge@gmail.com">barbmgeorge@gmail.com</a>
LOCATION:Hoquiam City Hall
UID:e.26.6488
SEQUENCE:3
DTSTAMP:20260426T032527Z
URL:https://chamber.graysharbor.org/events/details/different-abilities-walk-roll-stroll-6488
END:VEVENT

END:VCALENDAR
