BEGIN:VCALENDAR
VERSION:2.0
PRODID:-//ChamberMaster//Event Calendar 2.0//EN
METHOD:PUBLISH
X-PUBLISHED-TTL:P3D
REFRESH-INTERVAL:P3D
CALSCALE:GREGORIAN
BEGIN:VEVENT
DTSTART:20130715T173000Z
DTEND:20130715T183000Z
X-MICROSOFT-CDO-ALLDAYEVENT:FALSE
SUMMARY:Dig into Dinosaurs
DESCRIPTION:Gnash your teeth and rehearse your roar\, channel your inner dinosaur. Discover your dinosaur name\, make a dinosaur bone fossil\, soar in the pteranodon races\, and take a picture inside the mouth of Tyrannosaurus Rex   just don't get chomped! This event is part of Summer Reading\, a Timberland Regional Library districtwide program. For children and families.
X-ALT-DESC;FMTTYPE=text/html:Gnash your teeth and rehearse your roar\, channel your inner dinosaur. Discover your dinosaur name\, make a dinosaur bone fossil\, soar in the pteranodon races\, and take a picture inside the mouth of Tyrannosaurus Rex &ndash\; just don&rsquo\;t get chomped! This event is part of Summer Reading\, a Timberland Regional Library districtwide program. For children and families.
LOCATION:Aberdeen Timberland Library. 121 E Market Street\, Aberdeen\, WA 98520
UID:e.26.2692
SEQUENCE:3
DTSTAMP:20260420T061215Z
URL:https://chamber.graysharbor.org/events/details/dig-into-dinosaurs-07-15-2013-2692
END:VEVENT

END:VCALENDAR
