BEGIN:VCALENDAR
VERSION:2.0
PRODID:-//ChamberMaster//Event Calendar 2.0//EN
METHOD:PUBLISH
X-PUBLISHED-TTL:P3D
REFRESH-INTERVAL:P3D
CALSCALE:GREGORIAN
BEGIN:VEVENT
DTSTART:20171014T170000Z
DTEND:20171014T210000Z
X-MICROSOFT-CDO-ALLDAYEVENT:FALSE
SUMMARY:Disaster Preparedness Event
DESCRIPTION:Would your family be ready if a disaster were to strike tomorrow?? receive valuable information from a disaster preparedness expert and learn how to prepare your family for a disaster.\n\nTopics include: Disaster Kit Preparation\n\nPreparedness Education \n\nOverall Disaster Prearedness
X-ALT-DESC;FMTTYPE=text/html:Would your family be ready if a disaster were to strike tomorrow?? receive valuable information from a disaster preparedness expert and learn how to prepare your family for a disaster.<br />\nTopics include: Disaster Kit Preparation<br />\nPreparedness Education&nbsp\;<br />\nOverall Disaster Prearedness
LOCATION:Raymond Dennis Company
UID:e.26.8285
SEQUENCE:3
DTSTAMP:20260425T195341Z
URL:https://chamber.graysharbor.org/events/details/disaster-preparedness-event-8285
END:VEVENT

END:VCALENDAR
