BEGIN:VCALENDAR
VERSION:2.0
PRODID:-//ChamberMaster//Event Calendar 2.0//EN
METHOD:PUBLISH
X-PUBLISHED-TTL:P3D
REFRESH-INTERVAL:P3D
CALSCALE:GREGORIAN
BEGIN:VEVENT
DTSTART:20190727T030000Z
DTEND:20190727T083000Z
X-MICROSOFT-CDO-ALLDAYEVENT:FALSE
SUMMARY:DJ/karaoke
DESCRIPTION:Dance music and karaoke
X-ALT-DESC;FMTTYPE=text/html:Dance music and karaoke
LOCATION:Parkway tavern 417 N Park St Aberdeen WA 98520
UID:e.26.12128
SEQUENCE:3
DTSTAMP:20260424T104146Z
URL:https://chamber.graysharbor.org/events/details/dj-karaoke-07-26-2019-12128
END:VEVENT

END:VCALENDAR
