BEGIN:VCALENDAR
VERSION:2.0
PRODID:-//ChamberMaster//Event Calendar 2.0//EN
METHOD:PUBLISH
X-PUBLISHED-TTL:P3D
REFRESH-INTERVAL:P3D
CALSCALE:GREGORIAN
BEGIN:VEVENT
DTSTART:20180811T190000Z
DTEND:20180811T220000Z
X-MICROSOFT-CDO-ALLDAYEVENT:FALSE
SUMMARY:Dog Days of Summer at Oyhut Bay
DESCRIPTION:Join us for an afternoon that is really going to go to the dogs!\n\nLive music\, vendors\, dog activities\, challenges and contests.\n\nYou don't want to miss this" Dog Days of Summer" event.
X-ALT-DESC;FMTTYPE=text/html:<span style="color: rgb(75\, 79\, 86)\; font-family: Helvetica\, Arial\, sans-serif\; font-size: 14px\; background-color: rgb(255\, 255\, 255)\;">Join us for an afternoon that is really going to go to the dogs!</span><br style="color: rgb(75\, 79\, 86)\; font-family: Helvetica\, Arial\, sans-serif\; font-size: 14px\; background-color: rgb(255\, 255\, 255)\;" />\n<span style="color: rgb(75\, 79\, 86)\; font-family: Helvetica\, Arial\, sans-serif\; font-size: 14px\; background-color: rgb(255\, 255\, 255)\;">Live music\, vendors\, dog activities\, challenges and contests.</span><br style="color: rgb(75\, 79\, 86)\; font-family: Helvetica\, Arial\, sans-serif\; font-size: 14px\; background-color: rgb(255\, 255\, 255)\;" />\n<span style="color: rgb(75\, 79\, 86)\; font-family: Helvetica\, Arial\, sans-serif\; font-size: 14px\; background-color: rgb(255\, 255\, 255)\;">You don&#39\;t want to miss this&quot\; Dog Days of Summer&quot\; event.</span>
LOCATION:Oyhut Bay Ocean Shores\, WA
UID:e.26.10642
SEQUENCE:3
DTSTAMP:20260425T034710Z
URL:https://chamber.graysharbor.org/events/details/dog-days-of-summer-at-oyhut-bay-10642
END:VEVENT

END:VCALENDAR
