BEGIN:VCALENDAR
VERSION:2.0
PRODID:-//ChamberMaster//Event Calendar 2.0//EN
METHOD:PUBLISH
X-PUBLISHED-TTL:P3D
REFRESH-INTERVAL:P3D
CALSCALE:GREGORIAN
BEGIN:VEVENT
DTSTART:20180804T160000Z
DTEND:20180804T200000Z
X-MICROSOFT-CDO-ALLDAYEVENT:FALSE
SUMMARY:Doggie Day at the Saturday Morning Market
DESCRIPTION:Doggie day at the Market    Saturday Morning Market will be hosting a dog fun filled day! Costume contest\, special dog treats\, prizes and more!
X-ALT-DESC;FMTTYPE=text/html:<span style="color: rgb(29\, 33\, 41)\; font-family: Helvetica\, Arial\, sans-serif\; font-size: 14px\; background-color: rgb(255\, 255\, 255)\;">Doggie day at the Market &#128062\;&#128054\; Saturday Morning Market will be hosting a dog fun filled day! Costume contest\, special dog treats\, prizes and more!</span>
LOCATION:Fleet Park Montesano\, WA
UID:e.26.10675
SEQUENCE:3
DTSTAMP:20260425T034710Z
URL:https://chamber.graysharbor.org/events/details/doggie-day-at-the-saturday-morning-market-10675
END:VEVENT

END:VCALENDAR
