BEGIN:VCALENDAR
VERSION:2.0
PRODID:-//ChamberMaster//Event Calendar 2.0//EN
METHOD:PUBLISH
X-PUBLISHED-TTL:P3D
REFRESH-INTERVAL:P3D
CALSCALE:GREGORIAN
BEGIN:VEVENT
DTSTART;VALUE=DATE:20170610
DTEND;VALUE=DATE:20170611
TRANSP:TRANSPARENT
X-MICROSOFT-CDO-ALLDAYEVENT:TRUE
SUMMARY:Doggie Days
DESCRIPTION:DOGGIE DAYS | JUNE 10 |\n\n\n\nThis yearly celebration hosted by The Salty Dog is a favorite for all.  Dogs and their owners compete in challenging and fun games\, show their talents\, and have a great time interacting together. It is just as much fun to come and watch as it is to participate.
X-ALT-DESC;FMTTYPE=text/html:DOGGIE DAYS | JUNE 10 |<br />\n<br />\nThis yearly celebration hosted by <a href="http://www.shopsaltydog.com/"><font color="#0066cc">The Salty Dog</font></a> is a favorite for all.&nbsp\; Dogs and their owners compete in challenging and fun games\, show their talents\, and have a great time interacting together. It is just as much fun to come and watch as it is to participate.<br />\n&nbsp\;
LOCATION:Seabrook\, WA
UID:e.26.6576
SEQUENCE:3
DTSTAMP:20260426T015213Z
URL:https://chamber.graysharbor.org/events/details/doggie-days-6576
END:VEVENT

END:VCALENDAR
