BEGIN:VCALENDAR
VERSION:2.0
PRODID:-//ChamberMaster//Event Calendar 2.0//EN
METHOD:PUBLISH
X-PUBLISHED-TTL:P3D
REFRESH-INTERVAL:P3D
CALSCALE:GREGORIAN
BEGIN:VEVENT
DTSTART:20180402T170000Z
DTEND:20180402T190000Z
X-MICROSOFT-CDO-ALLDAYEVENT:FALSE
SUMMARY:Donate Life Flag Dedication & Cake Cutting
DESCRIPTION:Grays Harbor Community Hospital and LifeNet Health are kicking off National Donate Life Month with a Donate Life Flag Dedication and Cake Ceremony followed by and education and outreach information table.
X-ALT-DESC;FMTTYPE=text/html:Grays Harbor&nbsp\;Community Hospital and LifeNet&nbsp\;Health are kicking off National Donate Life Month with a Donate Life Flag Dedication and Cake Ceremony followed by and education and outreach information table.&nbsp\;
LOCATION:Education and Outreach Table (conference room C) Grays Harbor Community Hospital 915 Anderson Dr. Aberdeen\, WA
UID:e.26.10572
SEQUENCE:3
DTSTAMP:20260425T113418Z
URL:https://chamber.graysharbor.org/events/details/donate-life-flag-dedication-cake-cutting-10572
END:VEVENT

END:VCALENDAR
