BEGIN:VCALENDAR
VERSION:2.0
PRODID:-//ChamberMaster//Event Calendar 2.0//EN
METHOD:PUBLISH
X-PUBLISHED-TTL:P3D
REFRESH-INTERVAL:P3D
CALSCALE:GREGORIAN
BEGIN:VEVENT
DTSTART:20170614T000000Z
DTEND:20170614T040000Z
X-MICROSOFT-CDO-ALLDAYEVENT:FALSE
SUMMARY:Donkeyccino CPA Release Party!
DESCRIPTION:Donkeyccino CPA Release Party!\n\n\n\nTwo worlds collide as Steam Donkey Brewing has created a Coffee Pale Ale utilizing copious amounts of Organic beans from Ocean Beach Roasters & Bistro. We will be offering a pairing menu and the brewers will be here! Free giveaways and amazing beer! Don't miss it!
X-ALT-DESC;FMTTYPE=text/html:<u><strong>Donkeyccino CPA Release Party!</strong></u><br />\n<br />\n<span class="_4n-j _fbReactionComponent__eventDetailsContentTags fsl" data-testid="event-permalink-details">Two worlds collide as Steam Donkey Brewing has created a Coffee Pale Ale utilizing copious amounts of Organic beans from Ocean Beach Roasters &amp\; Bistro. We will be offering a pairing menu and the brewers will be here! Free giveaways and amazing beer! Don&#39\;t miss it!</span>
LOCATION:Ocean Beach Roasters and Bistro 841 Point Brown Ave NW Ocean Shores\, WA 98569
UID:e.26.7713
SEQUENCE:3
DTSTAMP:20260426T032751Z
URL:https://chamber.graysharbor.org/events/details/donkeyccino-cpa-release-party-7713
END:VEVENT

END:VCALENDAR
