BEGIN:VCALENDAR
VERSION:2.0
PRODID:-//ChamberMaster//Event Calendar 2.0//EN
METHOD:PUBLISH
X-PUBLISHED-TTL:P3D
REFRESH-INTERVAL:P3D
CALSCALE:GREGORIAN
BEGIN:VEVENT
DTSTART:20190425T220000Z
DTEND:20190425T230000Z
X-MICROSOFT-CDO-ALLDAYEVENT:FALSE
SUMMARY:Double Barrel BBQ & Food Truck Ribbon Cutting
DESCRIPTION:GGHI will be partnering with the Ocean Shores Chamber of Commerce for a ribbon cutting to celebrate Double Barrel BBQ & Food Truck! The event will take place next Thursday\, April 25th at 3 pm. They are located at 732 Point Brown Ave NW\, Ocean Shores\, WA.\n\n \nThey feature Brisket\, Pulled Pork\, Baby Back Ribs and Smoked Chicken and homemade BBQ sauces!\n\nAll sides are homemade from scratch and include but not limited to: SW Mac & Cheese\, Cowboy Beans\, Potato Salad\, Cornbread\, homemade soup and more. They also serve beer and wine in a down to earth nice and cozy\, country atmosphere.\n\n\nWe hope to see you there to help celebrate their success in Grays Harbor!
X-ALT-DESC;FMTTYPE=text/html:<span style="font-size:14px\;">GGHI will be partnering with the Ocean Shores Chamber of Commerce for a&nbsp\;ribbon cutting to celebrate Double Barrel BBQ &amp\; Food Truck! The event will take place next Thursday\, April 25<sup>th</sup>&nbsp\;at 3 pm. They are located at 732 Point Brown Ave NW\, Ocean Shores\, WA.<br />\n&nbsp\;</span>\n<div style="color:rgb(34\, 34\, 34)\;font-family:Arial\, Helvetica\, sans-serif\;"><span style="font-size:14px\;">They feature Brisket\, Pulled Pork\, Baby Back Ribs and Smoked Chicken&nbsp\;and&nbsp\;homemade BBQ sauces!</span></div>\n\n<div style="color:rgb(34\, 34\, 34)\;font-family:Arial\, Helvetica\, sans-serif\;"><span style="font-size:14px\;">All sides are homemade from scratch and include but not limited to:&nbsp\;SW Mac &amp\; Cheese\, Cowboy Beans\, Potato Salad\,&nbsp\;Cornbread\,&nbsp\;homemade soup and more. They also serve&nbsp\;beer and wine in&nbsp\;a down to earth&nbsp\;nice and cozy\, country atmosphere.</span></div>\n<br />\n<span style="font-size:14px\;">We hope to see you there to help celebrate their success in Grays Harbor!</span>
LOCATION:Double Barrel BBQ & Grub 732 Point Brown Ave NW Ocean Shores\, WA 98569
UID:e.26.11963
SEQUENCE:3
DTSTAMP:20260424T151702Z
URL:https://chamber.graysharbor.org/events/details/double-barrel-bbq-food-truck-ribbon-cutting-11963
END:VEVENT

END:VCALENDAR
