BEGIN:VCALENDAR
VERSION:2.0
PRODID:-//ChamberMaster//Event Calendar 2.0//EN
METHOD:PUBLISH
X-PUBLISHED-TTL:P3D
REFRESH-INTERVAL:P3D
CALSCALE:GREGORIAN
BEGIN:VEVENT
DTSTART:20170506T150000Z
DTEND:20170506T183000Z
X-MICROSOFT-CDO-ALLDAYEVENT:FALSE
SUMMARY:Downtown Aberdeen Clean-Up
DESCRIPTION:Saturday\, May 6\, Aberdeen Beautification Day will run from 8 am to 11:30 am.\nThe city is looking for volunteers to help in the process.\n\n"This is an opportunity to help improve our community\, through beautification\, partnerships and community pride. Everyone all ages and abilities are welcome."\n\nVolunteers will check in at Aberdeen City Hall and be be assigned a "Captain" and a block in downtown Aberdeen to work on.\n\nThe City recommends bringing gloves\, small hand tools\, hand trimmers and sun-screen if needed\, but these items are not required.
X-ALT-DESC;FMTTYPE=text/html:Saturday\, May 6\, Aberdeen Beautification Day will run from 8 am to 11:30 am.\n<p>The city is looking for volunteers to help in the process.</p>\n\n<h3 style="padding-left: 30px\;">&ldquo\;This is an opportunity to help improve our community\, through beautification\, partnerships and community pride. Everyone all ages and abilities are welcome.&rdquo\;</h3>\n\n<p>Volunteers will check in at Aberdeen City Hall and be be assigned a &ldquo\;Captain&rdquo\; and a block in downtown Aberdeen to work on.</p>\n\n<p>The City recommends bringing gloves\, small hand tools\, hand trimmers and sun-screen if needed\, but these items are not required.</p>\n
LOCATION:Meet at City Hall Market Street Downtown Aberdeen
UID:e.26.7667
SEQUENCE:3
DTSTAMP:20260426T032736Z
URL:https://chamber.graysharbor.org/events/details/downtown-aberdeen-clean-up-7667
END:VEVENT

END:VCALENDAR
