BEGIN:VCALENDAR
VERSION:2.0
PRODID:-//ChamberMaster//Event Calendar 2.0//EN
METHOD:PUBLISH
X-PUBLISHED-TTL:P3D
REFRESH-INTERVAL:P3D
CALSCALE:GREGORIAN
BEGIN:VEVENT
DTSTART:20181027T200000Z
DTEND:20181027T220000Z
X-MICROSOFT-CDO-ALLDAYEVENT:FALSE
SUMMARY:Downtown Aberdeen & Hoquiam Trick-or-Treat
DESCRIPTION:The Aberdeen downtown trick-or-treat will take place from 11am - 1pm and the downtown Hoquiam trick-or-treat will be from 1pm - 3pm\, so plan to attend both!
X-ALT-DESC;FMTTYPE=text/html:The Aberdeen downtown trick-or-treat will take place from 11am - 1pm and the downtown Hoquiam trick-or-treat will be from 1pm - 3pm\, so plan to attend both!
LOCATION:Downtown Aberdeen and Hoquiam
UID:e.26.11311
SEQUENCE:3
DTSTAMP:20260425T002308Z
URL:https://chamber.graysharbor.org/events/details/downtown-aberdeen-hoquiam-trick-or-treat-11311
END:VEVENT

END:VCALENDAR
