BEGIN:VCALENDAR
VERSION:2.0
PRODID:-//ChamberMaster//Event Calendar 2.0//EN
METHOD:PUBLISH
X-PUBLISHED-TTL:P3D
REFRESH-INTERVAL:P3D
CALSCALE:GREGORIAN
BEGIN:VEVENT
DTSTART:20181027T190000Z
DTEND:20181027T210000Z
X-MICROSOFT-CDO-ALLDAYEVENT:FALSE
SUMMARY:Downtown Aberdeen Trick or Treat
DESCRIPTION:Head downtown Aberdeen for the annual Trick or Treat at participating businesses!
X-ALT-DESC;FMTTYPE=text/html:Head downtown Aberdeen for the annual Trick or Treat at participating businesses!
LOCATION:Donwtown Aberdeen businesses
UID:e.26.11303
SEQUENCE:3
DTSTAMP:20260425T002103Z
URL:https://chamber.graysharbor.org/events/details/downtown-aberdeen-trick-or-treat-11303
END:VEVENT

END:VCALENDAR
