BEGIN:VCALENDAR
VERSION:2.0
PRODID:-//ChamberMaster//Event Calendar 2.0//EN
METHOD:PUBLISH
X-PUBLISHED-TTL:P3D
REFRESH-INTERVAL:P3D
CALSCALE:GREGORIAN
BEGIN:VEVENT
DTSTART:20180407T170000Z
DTEND:20180408T230000Z
X-MICROSOFT-CDO-ALLDAYEVENT:FALSE
SUMMARY:Driftwood Show and Glass Float Hunt
DESCRIPTION:This is put on by the cranberry heritage which is a nonprofit\, 501-3c. the events support the maintenance of the community hall and future events  \n\nFamily Fun Event April 7 & 8\, 2017 10 to 5PM and 10 to 4PM\, Sat & Sun Glass Float License sales start Apr 7\, 8 AM- 5PM\, Apr 8\, 8AM- 2PM\n\nCOME JOIN US AT THE BEACH FOR A DAY OF ADVENTURE\n\nThe Historical Community Hall is again the venue for this 56th annual event. Come with friends\, come with family\, hunt for a glass float token to claim a one of a kind colorful glass float. Created this year by our spectacular local OPAL ART GLASS Studio in Montesano. Large showing of varied beach finds entered to win "Best in Show" Special appearance from renowned Oceanographers to examine beachcombers finds. Yum\, local Brats\, smoked meats & cheeses plus more vendors inside and out. Entertainment by April & Paul VanDyke. A little Jazz\, 60's & 70's\, oldies and requests. Free\, admission by donation. LOCATION: Grayland Community Historical Hall 2071 Cranberry Road Grayland\, Wa 98547 303 331-7000 cell & txt\, day of show 360 268-0080\, general information
X-ALT-DESC;FMTTYPE=text/html:This is put on by the cranberry heritage which is a nonprofit\, 501-3c. the events support the maintenance of the community hall and future events &nbsp\;<br />\nFamily Fun Event April 7 &amp\; 8\, 2017 10 to 5PM and 10 to 4PM\, Sat &amp\; Sun Glass Float License sales start Apr 7\, 8 AM- 5PM\, Apr 8\, 8AM- 2PM<br />\nCOME JOIN US AT THE BEACH FOR A DAY OF ADVENTURE<br />\nThe Historical Community Hall is again the venue for this 56th annual event. Come with friends\, come with family\, hunt for a glass float token to claim a one of a kind colorful glass float. Created this year by our spectacular local OPAL ART GLASS Studio in Montesano. Large showing of varied beach finds entered to win &ldquo\;Best in Show&rdquo\; Special appearance from renowned Oceanographers to examine beachcombers finds. Yum\, local Brats\, smoked meats &amp\; cheeses plus more vendors inside and out. Entertainment by April &amp\; Paul VanDyke. A little Jazz\, 60&#39\;s &amp\; 70&#39\;s\, oldies and requests. Free\, admission by donation. LOCATION: Grayland Community Historical Hall 2071 Cranberry Road Grayland\, Wa 98547 303 331-7000 cell &amp\; txt\, day of show 360 268-0080\, general information
LOCATION:Grayland Community Historical Hall 2071 Cranberry Road
UID:e.26.10599
SEQUENCE:3
DTSTAMP:20260425T113804Z
URL:https://chamber.graysharbor.org/events/details/driftwood-show-and-glass-float-hunt-10599
END:VEVENT

END:VCALENDAR
