BEGIN:VCALENDAR
VERSION:2.0
PRODID:-//ChamberMaster//Event Calendar 2.0//EN
METHOD:PUBLISH
X-PUBLISHED-TTL:P3D
REFRESH-INTERVAL:P3D
CALSCALE:GREGORIAN
BEGIN:VEVENT
DTSTART:20200729T200000Z
DTEND:20200729T230000Z
X-MICROSOFT-CDO-ALLDAYEVENT:FALSE
SUMMARY:Drive Thru Job Fair
DESCRIPTION:Ever wanted to go to a job fair without leaving your car? Now you can! Stop by our office\, so we can learn more about the work you're looking for. Feel free to drop off your resumes and cover letters. There will be snacks available. We look forward to seeing you there!
X-ALT-DESC;FMTTYPE=text/html:<span style="caret-color: rgb(29\, 33\, 41)\; color: rgb(29\, 33\, 41)\; font-family: system-ui\, -apple-system\, BlinkMacSystemFont\, &quot\;.SFNSText-Regular&quot\;\, sans-serif\; font-size: 14px\; white-space: pre-wrap\;">Ever wanted to go to a job fair without leaving your car? Now you can! Stop by our office\, so we can learn more about the work you&#39\;re looking for. Feel free to drop off your resumes and cover letters. There will be snacks available. We look forward to seeing you there! </span>
LOCATION:pin Aberdeen Express Employment Professionals 601 W Wishkah St.\, Aberdeen\, Washington 98520
UID:e.26.12485
SEQUENCE:3
DTSTAMP:20260424T132714Z
URL:https://chamber.graysharbor.org/events/details/drive-thru-job-fair-12485
END:VEVENT

END:VCALENDAR
