BEGIN:VCALENDAR
VERSION:2.0
PRODID:-//ChamberMaster//Event Calendar 2.0//EN
METHOD:PUBLISH
X-PUBLISHED-TTL:P3D
REFRESH-INTERVAL:P3D
CALSCALE:GREGORIAN
BEGIN:VEVENT
DTSTART:20190118T020000Z
DTEND:20190118T040000Z
X-MICROSOFT-CDO-ALLDAYEVENT:FALSE
SUMMARY:Drug Awareness Night
DESCRIPTION:Parents and community members~ do you know the current trends of teen substance use in Elma? We invite you to a drug awareness night featuring local health and legal experts. Come learn the information adults need to know to prevent and reduce the life changing affects of teen substance use. Education is powerful- your kids can't afford you not to be in the know! This event is open to all adults. Please help spread the word!
X-ALT-DESC;FMTTYPE=text/html:<span style="caret-color: rgb(29\, 33\, 41)\; color: rgb(29\, 33\, 41)\; font-family: system-ui\, -apple-system\, BlinkMacSystemFont\, &quot\;.SFNSText-Regular&quot\;\, sans-serif\; font-size: 14px\; white-space: pre-wrap\; background-color: rgb(255\, 255\, 255)\;">Parents and community members~ do you know the current trends of teen substance use in Elma? We invite you to a drug awareness night featuring local health and legal experts. Come learn the information adults need to know to prevent and reduce the life changing affects of teen substance use. Education is powerful- your kids can&#39\;t afford you not to be in the know! This event is open to all adults. Please help spread the word!</span>
LOCATION:Elma Middle School 805 W Main St. Elma\, WA
UID:e.26.11656
SEQUENCE:3
DTSTAMP:20260424T194415Z
URL:https://chamber.graysharbor.org/events/details/drug-awareness-night-11656
END:VEVENT

END:VCALENDAR
