BEGIN:VCALENDAR
VERSION:2.0
PRODID:-//ChamberMaster//Event Calendar 2.0//EN
METHOD:PUBLISH
X-PUBLISHED-TTL:P3D
REFRESH-INTERVAL:P3D
CALSCALE:GREGORIAN
BEGIN:VEVENT
DTSTART:20180325T170000Z
DTEND:20180325T200000Z
X-MICROSOFT-CDO-ALLDAYEVENT:FALSE
SUMMARY:Dugan's Run 2018
DESCRIPTION:For over 30 years Dugan's Run has been held here in Ocean Shores promoting youth sports\, family participation and community involvement. With a 5K\, 10K\, a One Mile Run for those 12 and under and a Kids Dash for even the smallest of participants. There is something for everyone. Dugan's Run features part of it's course on the beach for the 5K and 10K routs.
X-ALT-DESC;FMTTYPE=text/html:<span style="color: rgb(75\, 79\, 86)\; font-family: Helvetica\, Arial\, sans-serif\; font-size: 14px\; background-color: rgb(255\, 255\, 255)\;">For over 30 years Dugan&#39\;s Run has been held here in Ocean Shores promoting youth sports\, family participation and community involvement. With a 5K\, 10K\, a One Mile Run for those 12 and under and a Kids Dash for even the smallest of participants. There is something for everyone. Dugan&#39\;s Run features part of it&rsquo\;s course on the beach for the 5K and 10K routs.</span>
LOCATION:pin Hide Map Dugan's Pizza 690 Ocean Shores Blvd NW\, Ocean Shores\, Washington 98569
UID:e.26.9519
SEQUENCE:3
DTSTAMP:20260425T114119Z
URL:https://chamber.graysharbor.org/events/details/dugan-s-run-2018-9519
END:VEVENT

END:VCALENDAR
