BEGIN:VCALENDAR
VERSION:2.0
PRODID:-//ChamberMaster//Event Calendar 2.0//EN
METHOD:PUBLISH
X-PUBLISHED-TTL:P3D
REFRESH-INTERVAL:P3D
CALSCALE:GREGORIAN
BEGIN:VEVENT
DTSTART:20200117T030000Z
DTEND:20200117T050000Z
X-MICROSOFT-CDO-ALLDAYEVENT:FALSE
SUMMARY:Dukes of Swing
DESCRIPTION:The "Dukes of Swing"\, under the direction of Tiffany Maki\, is the official stage band of Elks Lodge #593 Aberdeen\, Washington. The band first played at lodge functions during the late 1940's\, and continues on today with the legacy of the big band era\, featuring swing favorites as well as Latin music\, modern hits and lots of surprises. This concert is part of the 3rd Annual GHC Jazz Festival.
X-ALT-DESC;FMTTYPE=text/html:<div class="_63eu" style="box-sizing: border-box\; font-size: 14px\; max-height: 260px\; overflow: hidden\; padding: 12px\; word-wrap: break-word\; font-family: system-ui\, -apple-system\, BlinkMacSystemFont\, &quot\;.SFNSText-Regular&quot\;\, sans-serif\; caret-color: rgb(29\, 33\, 41)\; color: rgb(29\, 33\, 41)\;">\n<div class="_63ew" data-testid="event-permalink-details" style="white-space: pre-wrap\; font-family: inherit\;"><span style="font-family: inherit\;">The &quot\;Dukes of Swing&quot\;\, under the direction of Tiffany Maki\, is the official stage band of Elks Lodge #593 Aberdeen\, Washington. The band first played at lodge functions during the late 1940&#39\;s\, and continues on today with the legacy of the big band era\, featuring swing favorites as well as Latin music\, modern hits and lots of surprises. This concert is part of the 3rd Annual GHC Jazz Festival. </span></div>\n</div>\n
LOCATION:Bishop Center for Performing Arts 1620 Edward P Smith Dr\, Aberdeen\, Washington 98520
UID:e.26.12337
SEQUENCE:3
DTSTAMP:20260424T042026Z
URL:https://chamber.graysharbor.org/events/details/dukes-of-swing-12337
END:VEVENT

END:VCALENDAR
