BEGIN:VCALENDAR
VERSION:2.0
PRODID:-//ChamberMaster//Event Calendar 2.0//EN
METHOD:PUBLISH
X-PUBLISHED-TTL:P3D
REFRESH-INTERVAL:P3D
CALSCALE:GREGORIAN
BEGIN:VEVENT
DTSTART:20180223T020000Z
DTEND:20180223T050000Z
X-MICROSOFT-CDO-ALLDAYEVENT:FALSE
SUMMARY:Dunham Winery Pairing Dinner
DESCRIPTION:One of the premier Washington wineries\, Dunham has been pumping out some of the best wines you can find since 1995. We are thrilled to welcome them to the coast! Five beautiful wines\, with five hand crafted courses for 70 dollars a person. The wonderful Deacon Raleigh St James will be delighting us with some music as well! Make your reservations now\, 3605813100\,for a classic night of wine\, food\, and music that you won't soon forget!
X-ALT-DESC;FMTTYPE=text/html:<span style="color: rgb(75\, 79\, 86)\; font-family: Helvetica\, Arial\, sans-serif\; font-size: 14px\; background-color: rgb(255\, 255\, 255)\;">One of the premier Washington wineries\, Dunham has been pumping out some of the best wines you can find since 1995. We are thrilled to welcome them to the coast! Five beautiful wines\, with five hand crafted courses for 70 dollars a person. The wonderful Deacon Raleigh St James will be delighting us with some music as well! Make your reservations now\, 3605813100\,for a classic night of wine\, food\, and music that you won&#39\;t soon forget!</span>
LOCATION:pin Hide Map Ocean Beach Roasters & Bistro 841 Point Brown Ave NW\, Ocean Shores\, Washington 98569
UID:e.26.9518
SEQUENCE:3
DTSTAMP:20260425T132527Z
URL:https://chamber.graysharbor.org/events/details/dunham-winery-pairing-dinner-9518
END:VEVENT

END:VCALENDAR
