BEGIN:VCALENDAR
VERSION:2.0
PRODID:-//ChamberMaster//Event Calendar 2.0//EN
METHOD:PUBLISH
X-PUBLISHED-TTL:P3D
REFRESH-INTERVAL:P3D
CALSCALE:GREGORIAN
BEGIN:VEVENT
DTSTART:20130105T183000Z
DTEND:20130105T193000Z
X-MICROSOFT-CDO-ALLDAYEVENT:FALSE
SUMMARY:E-reader Roadshow
DESCRIPTION:Get the lowdown on downloadable e-books available through your local library. A short presentation will walk you through the basic steps to borrow e-books. After the talk\, individuals will have a chance to try out some mobile devices--including both standard e-readers and tablets (Nook HD\, Samsung Galaxy 2 7.0 and Kindle Fire). Library staff will be on hand to consult with patrons who already own devices or are in the process of deciding whether to buy one. Bring your own device to get troubleshooting help or share your success stories
X-ALT-DESC;FMTTYPE=text/html:Get the lowdown on downloadable e-books available through your local library. A short presentation will walk you through the basic steps to borrow e-books. After the talk\, individuals will have a chance to try out some mobile devices--including both standard e-readers and tablets (Nook HD\, Samsung Galaxy 2 7.0 and Kindle Fire). Library staff will be on hand to consult with patrons who already own devices or are in the process of deciding whether to buy one. Bring your own device to get troubleshooting help or share your success stories
LOCATION:Aberdeen Timberland Library. 121 East Market Street\, Aberdeen\, WA 98520
UID:e.26.2512
SEQUENCE:3
DTSTAMP:20260421T170333Z
URL:https://chamber.graysharbor.org/events/details/e-reader-roadshow-01-05-2013-2512
END:VEVENT

END:VCALENDAR
