BEGIN:VCALENDAR
VERSION:2.0
PRODID:-//ChamberMaster//Event Calendar 2.0//EN
METHOD:PUBLISH
X-PUBLISHED-TTL:P3D
REFRESH-INTERVAL:P3D
CALSCALE:GREGORIAN
BEGIN:VEVENT
DTSTART:20181208T183000Z
DTEND:20181208T200000Z
X-MICROSOFT-CDO-ALLDAYEVENT:FALSE
SUMMARY:Early Learners: Gingerbread House Building
DESCRIPTION:Ages 0-6 years old\, design and decorate a gingerbread house out of graham crackers! Space is limited\, so pick up your free ticket at the youth department desk! All supplies provided while supplies last. Sponsored by the Friends of the Aberdeen Timberland Library.
X-ALT-DESC;FMTTYPE=text/html:<div class="_63ew" data-testid="event-permalink-details" style="background-color: transparent\; color: rgb(29\, 33\, 41)\; font-family: Helvetica\,Arial\,sans-serif\; font-size: 14px\; font-style: normal\; font-variant: normal\; font-weight: 400\; letter-spacing: normal\; orphans: 2\; text-align: left\; text-decoration: none\; text-indent: 0px\; text-transform: none\; -webkit-text-stroke-width: 0px\; white-space: normal\; word-spacing: 0px\;"><span style="font-family: Helvetica\,Arial\,sans-serif\;">Ages 0-6 years old\, design and decorate a gingerbread house out of graham crackers! Space is limited\, so pick up your free ticket at the youth department desk! All supplies provided while supplies last. Sponsored by the Friends of the Aberdeen Timberland Library.</span></div>\n
LOCATION:Aberdeen Timberland Library 121 E Market St\, Aberdeen\, Washington 98520
UID:e.26.11351
SEQUENCE:3
DTSTAMP:20260424T224247Z
URL:https://chamber.graysharbor.org/events/details/early-learners-gingerbread-house-building-11351
END:VEVENT

END:VCALENDAR
