BEGIN:VCALENDAR
VERSION:2.0
PRODID:-//ChamberMaster//Event Calendar 2.0//EN
METHOD:PUBLISH
X-PUBLISHED-TTL:P3D
REFRESH-INTERVAL:P3D
CALSCALE:GREGORIAN
BEGIN:VEVENT
DTSTART:20180422T160000Z
DTEND:20180422T170000Z
X-MICROSOFT-CDO-ALLDAYEVENT:FALSE
SUMMARY:Earth Day Celebration At Oyhut Bay Seaside Village
DESCRIPTION:Join us in an Earth Day Celebration.\n\nWhen you purchase Sunday Brunch\, Coffee from the Riptide or lunch at Oyhut Bay Bistro you will receive a free sapling to plant in honor of Earth Day! Limited to supply on hand $5 minimum purchase. One per guest check.
X-ALT-DESC;FMTTYPE=text/html:<span style="color: rgb(75\, 79\, 86)\; font-family: Helvetica\, Arial\, sans-serif\; font-size: 14px\; background-color: rgb(255\, 255\, 255)\;">Join us in an Earth Day Celebration.</span><br style="color: rgb(75\, 79\, 86)\; font-family: Helvetica\, Arial\, sans-serif\; font-size: 14px\; background-color: rgb(255\, 255\, 255)\;" />\n<span style="color: rgb(75\, 79\, 86)\; font-family: Helvetica\, Arial\, sans-serif\; font-size: 14px\; background-color: rgb(255\, 255\, 255)\;">When you purchase Sunday Brunch\, Coffee from the Riptide or lunch at Oyhut Bay Bistro you will receive a free sapling to plant in honor of Earth Day! Limited to supply on hand $5 minimum purchase. One per guest check.</span>
LOCATION:Oyhut Bay Seaside Village Ocean Shores\, WA
UID:e.26.10587
SEQUENCE:3
DTSTAMP:20260425T115107Z
URL:https://chamber.graysharbor.org/events/details/earth-day-celebration-at-oyhut-bay-seaside-village-10587
END:VEVENT

END:VCALENDAR
