BEGIN:VCALENDAR
VERSION:2.0
PRODID:-//ChamberMaster//Event Calendar 2.0//EN
METHOD:PUBLISH
X-PUBLISHED-TTL:P3D
REFRESH-INTERVAL:P3D
CALSCALE:GREGORIAN
BEGIN:VEVENT
DTSTART;VALUE=DATE:20170415
DTEND;VALUE=DATE:20170417
TRANSP:TRANSPARENT
X-MICROSOFT-CDO-ALLDAYEVENT:TRUE
SUMMARY:Easter at the Beach
DESCRIPTION:Spend Easter at the Beach!\n\nTake in a full weekend of activities along 18 miles of beautiful beaches between Tokeland and Westport!\n\nNWAC Spring Menagerie: Sat. and Sun. 10-4pm. Live glassblowing and chainsaw carving\, plant sale and petting zoo.\n\nTokeland-North Cove Artists Studio Tour: Sat. 10-4pm and Sun. 12-4pm\n\nWine Auction Event: in Tokeland Sat. night 6-9pm benefitting the Ocosta School DIstrict Art Program.\n\nCommunity Crab Feed and CrabRaces: A unique family fun experience at the Westport Marina Sat. 11-5pm\n\nCrab Derby: Sat. 8-5pm and Sun. 8-3pm\n\nSponsors: North Willapa Artist Community\, Tokeland-North Cove Chamber of Commerce\, Westport-Grayland Chamber of Commerce
X-ALT-DESC;FMTTYPE=text/html:<span style="font-size: 16px\;"><em>Spend Easter at the Beach!</em></span><br />\nTake in a full weekend of activities along 18 miles of beautiful beaches between Tokeland and Westport!<br />\n<strong>NWAC Spring Menagerie: </strong>Sat. and Sun. 10-4pm. Live glassblowing and chainsaw carving\, plant sale and petting zoo.<br />\n<strong>Tokeland-North Cove Artists Studio Tour:</strong> Sat. 10-4pm and Sun. 12-4pm<br />\n<strong>Wine Auction Event:</strong> in Tokeland Sat. night 6-9pm benefitting the Ocosta School DIstrict Art Program.<br />\n<strong>Community Crab Feed and CrabRaces:</strong> A unique family fun experience at the Westport Marina Sat. 11-5pm<br />\n<strong>Crab Derby:</strong> Sat. 8-5pm and Sun. 8-3pm<br />\n<u>Sponsors:</u> North Willapa Artist Community\, Tokeland-North Cove Chamber of Commerce\, Westport-Grayland Chamber of Commerce
LOCATION:South Beach Area between Tokeland and Westport
UID:e.26.6496
SEQUENCE:3
DTSTAMP:20260425T152242Z
URL:https://chamber.graysharbor.org/events/details/easter-at-the-beach-6496
END:VEVENT

END:VCALENDAR
