BEGIN:VCALENDAR
VERSION:2.0
PRODID:-//ChamberMaster//Event Calendar 2.0//EN
METHOD:PUBLISH
X-PUBLISHED-TTL:P3D
REFRESH-INTERVAL:P3D
CALSCALE:GREGORIAN
BEGIN:VEVENT
DTSTART:20190421T150000Z
DTEND:20190421T164500Z
X-MICROSOFT-CDO-ALLDAYEVENT:FALSE
SUMMARY:Easter Breakfast Fundraiser
DESCRIPTION:Come and enjoy our Easter breakfast that includes egg casseroles\, ham\, fruit platter\, yogurt\, cardamom bread & other baked goodness. Free-will donation goes toward the Parsonage Project.
X-ALT-DESC;FMTTYPE=text/html:<span style="caret-color: rgb(29\, 33\, 41)\; color: rgb(29\, 33\, 41)\; font-family: system-ui\, -apple-system\, BlinkMacSystemFont\, &quot\;.SFNSText-Regular&quot\;\, sans-serif\; font-size: 14px\; white-space: pre-wrap\;">Come and enjoy our Easter breakfast that includes egg casseroles\, ham\, fruit platter\, yogurt\, cardamom bread &amp\; other baked goodness. Free-will donation goes toward the Parsonage Project.</span>
LOCATION:pin Saron Lutheran-First Presbyterian Church in Hoquiam 708 8th St\, Hoquiam\, Washington 98550
UID:e.26.11951
SEQUENCE:3
DTSTAMP:20260424T150743Z
URL:https://chamber.graysharbor.org/events/details/easter-breakfast-fundraiser-11951
END:VEVENT

END:VCALENDAR
