BEGIN:VCALENDAR
VERSION:2.0
PRODID:-//ChamberMaster//Event Calendar 2.0//EN
METHOD:PUBLISH
X-PUBLISHED-TTL:P3D
REFRESH-INTERVAL:P3D
CALSCALE:GREGORIAN
BEGIN:VEVENT
DTSTART:20190421T170000Z
DTEND:20190421T200000Z
X-MICROSOFT-CDO-ALLDAYEVENT:FALSE
SUMMARY:Easter Brunch and Kids Egg Hunt
DESCRIPTION:Easter brunch is being served at our Lodge from 10:00 am to 1:00 pm. cost is $12.00 for adults and children ages 10-14 are half price. Ages 3 and under are free! Easter egg hunt time will be updated to this event details shortly!
X-ALT-DESC;FMTTYPE=text/html:<span style="caret-color: rgb(29\, 33\, 41)\; color: rgb(29\, 33\, 41)\; font-family: system-ui\, -apple-system\, BlinkMacSystemFont\, &quot\;.SFNSText-Regular&quot\;\, sans-serif\; font-size: 14px\; white-space: pre-wrap\;">Easter brunch is being served at our Lodge from 10:00 am to 1:00 pm. cost is $12.00 for adults and children ages 10-14 are half price. Ages 3 and under are free! Easter egg hunt time will be updated to this event details shortly!</span>
LOCATION:pin Hoquiam Elks Lodge #1082 624 K St\, Hoquiam\, Washington 98550
UID:e.26.11955
SEQUENCE:3
DTSTAMP:20260424T151022Z
URL:https://chamber.graysharbor.org/events/details/easter-brunch-and-kids-egg-hunt-11955
END:VEVENT

END:VCALENDAR
