BEGIN:VCALENDAR
VERSION:2.0
PRODID:-//ChamberMaster//Event Calendar 2.0//EN
METHOD:PUBLISH
X-PUBLISHED-TTL:P3D
REFRESH-INTERVAL:P3D
CALSCALE:GREGORIAN
BEGIN:VEVENT
DTSTART:20180331T183000Z
DTEND:20180331T193000Z
X-MICROSOFT-CDO-ALLDAYEVENT:FALSE
SUMMARY:Easter Egg Hunt
DESCRIPTION:Elma VFW Easter Egg Hunt\n\nBring your kids out to the Fairgrounds for a free Easter Egg Hunt. Line up begins at 11:30 am and the hunt starts at noon. Great prizes. Many age groups.
X-ALT-DESC;FMTTYPE=text/html:<span style="color: rgb(75\, 79\, 86)\; font-family: Helvetica\, Arial\, sans-serif\; font-size: 14px\; background-color: rgb(255\, 255\, 255)\;">Elma VFW Easter Egg Hunt</span><br style="color: rgb(75\, 79\, 86)\; font-family: Helvetica\, Arial\, sans-serif\; font-size: 14px\; background-color: rgb(255\, 255\, 255)\;" />\n<span style="color: rgb(75\, 79\, 86)\; font-family: Helvetica\, Arial\, sans-serif\; font-size: 14px\; background-color: rgb(255\, 255\, 255)\;">Bring your kids out to the Fairgrounds for a free Easter Egg Hunt. Line up begins at 11:30 am and the hunt starts at noon. Great prizes. Many age groups.</span>
LOCATION:pin Grays Harbor Fairgrounds 32 Elma McCleary Rd\, Elma\, Washington 98541
UID:e.26.10594
SEQUENCE:3
DTSTAMP:20260425T113134Z
URL:https://chamber.graysharbor.org/events/details/easter-egg-hunt-10594
END:VEVENT

END:VCALENDAR
