BEGIN:VCALENDAR
VERSION:2.0
PRODID:-//ChamberMaster//Event Calendar 2.0//EN
METHOD:PUBLISH
X-PUBLISHED-TTL:P3D
REFRESH-INTERVAL:P3D
CALSCALE:GREGORIAN
BEGIN:VEVENT
DTSTART:20190421T160000Z
DTEND:20190421T170000Z
X-MICROSOFT-CDO-ALLDAYEVENT:FALSE
SUMMARY:Easter Egg Hunt
DESCRIPTION:Bring the kiddos to hunt for Easter eggs!
X-ALT-DESC;FMTTYPE=text/html:<span style="caret-color: rgb(29\, 33\, 41)\; color: rgb(29\, 33\, 41)\; font-family: system-ui\, -apple-system\, BlinkMacSystemFont\, &quot\;.SFNSText-Regular&quot\;\, sans-serif\; font-size: 14px\; white-space: pre-wrap\;">Bring the kiddos to hunt for Easter eggs! </span>
LOCATION:pin Saron Lutheran-First Presbyterian Church in Hoquiam 708 8th St\, Hoquiam\, Washington 98550
UID:e.26.11952
SEQUENCE:3
DTSTAMP:20260424T163112Z
URL:https://chamber.graysharbor.org/events/details/easter-egg-hunt-11952
END:VEVENT

END:VCALENDAR
