BEGIN:VCALENDAR
VERSION:2.0
PRODID:-//ChamberMaster//Event Calendar 2.0//EN
METHOD:PUBLISH
X-PUBLISHED-TTL:P3D
REFRESH-INTERVAL:P3D
CALSCALE:GREGORIAN
BEGIN:VEVENT
DTSTART:20180331T000000Z
DTEND:20180331T020000Z
X-MICROSOFT-CDO-ALLDAYEVENT:FALSE
SUMMARY:Easter Rocks at Riptide Coffee Co.
DESCRIPTION:Join us Friday evening as we craft up some Easter fun.\n\nPaint rocks to look like your favorite Easter or Spring Thing. Flowers\, eggs\, bunnies\, chicks.\n\nFREE\n\nMake 2 take 1.\n\nThe Easter Bunny will then hide them around Oyhut Bay to be found on Easter.
X-ALT-DESC;FMTTYPE=text/html:<span style="color: rgb(75\, 79\, 86)\; font-family: Helvetica\, Arial\, sans-serif\; font-size: 14px\; background-color: rgb(255\, 255\, 255)\;">Join us Friday evening as we craft up some Easter fun.</span><br style="color: rgb(75\, 79\, 86)\; font-family: Helvetica\, Arial\, sans-serif\; font-size: 14px\; background-color: rgb(255\, 255\, 255)\;" />\n<span style="color: rgb(75\, 79\, 86)\; font-family: Helvetica\, Arial\, sans-serif\; font-size: 14px\; background-color: rgb(255\, 255\, 255)\;">Paint rocks to look like your favorite Easter or Spring Thing. Flowers\, eggs\, bunnies\, chicks.</span><br style="color: rgb(75\, 79\, 86)\; font-family: Helvetica\, Arial\, sans-serif\; font-size: 14px\; background-color: rgb(255\, 255\, 255)\;" />\n<span style="color: rgb(75\, 79\, 86)\; font-family: Helvetica\, Arial\, sans-serif\; font-size: 14px\; background-color: rgb(255\, 255\, 255)\;">FREE</span><br style="color: rgb(75\, 79\, 86)\; font-family: Helvetica\, Arial\, sans-serif\; font-size: 14px\; background-color: rgb(255\, 255\, 255)\;" />\n<span style="color: rgb(75\, 79\, 86)\; font-family: Helvetica\, Arial\, sans-serif\; font-size: 14px\; background-color: rgb(255\, 255\, 255)\;">Make 2 take 1.</span><br style="color: rgb(75\, 79\, 86)\; font-family: Helvetica\, Arial\, sans-serif\; font-size: 14px\; background-color: rgb(255\, 255\, 255)\;" />\n<span style="color: rgb(75\, 79\, 86)\; font-family: Helvetica\, Arial\, sans-serif\; font-size: 14px\; background-color: rgb(255\, 255\, 255)\;">The Easter Bunny will then hide them around Oyhut Bay to be found on Easter.</span>
LOCATION:Riptide Coffee Co. Oyhut Bay Ocean Shores\, WA
UID:e.26.10586
SEQUENCE:3
DTSTAMP:20260425T113140Z
URL:https://chamber.graysharbor.org/events/details/easter-rocks-at-riptide-coffee-co-10586
END:VEVENT

END:VCALENDAR
