BEGIN:VCALENDAR
VERSION:2.0
PRODID:-//ChamberMaster//Event Calendar 2.0//EN
METHOD:PUBLISH
X-PUBLISHED-TTL:P3D
REFRESH-INTERVAL:P3D
CALSCALE:GREGORIAN
BEGIN:VEVENT
DTSTART;VALUE=DATE:20170715
DTEND;VALUE=DATE:20170717
TRANSP:TRANSPARENT
X-MICROSOFT-CDO-ALLDAYEVENT:TRUE
SUMMARY:Eastside Street Rods Show & Shine
DESCRIPTION:Vehicle display\, parade and much more for the whole family!
X-ALT-DESC;FMTTYPE=text/html:Vehicle display\, parade and much more for the whole family!
LOCATION:Westport\, WA
UID:e.26.7597
SEQUENCE:3
DTSTAMP:20260426T004323Z
URL:https://chamber.graysharbor.org/events/details/eastside-street-rods-show-shine-7597
END:VEVENT

END:VCALENDAR
