BEGIN:VCALENDAR
VERSION:2.0
PRODID:-//ChamberMaster//Event Calendar 2.0//EN
METHOD:PUBLISH
X-PUBLISHED-TTL:P3D
REFRESH-INTERVAL:P3D
CALSCALE:GREGORIAN
BEGIN:VEVENT
DTSTART:20180225T020000Z
DTEND:20180225T040000Z
X-MICROSOFT-CDO-ALLDAYEVENT:FALSE
SUMMARY:Ecliptic Brewing Tap Takeover
DESCRIPTION:ECLIPTIC BREWING will be in the house for a COSMIC tap takeover Saturday February 24th at 6pm. Music will start at 7pm and will be provided by Isaac Lornitzo and Chris Kirsch (Big Blue Van) \n\nSo come on down and enjoy a CONSTELLATION of great beers STARBURST-ing with a HYPERNOVA of flavors. Don't miss it because this event will be out of this world!
X-ALT-DESC;FMTTYPE=text/html:<span style="color: rgb(75\, 79\, 86)\; font-family: Helvetica\, Arial\, sans-serif\; font-size: 14px\; background-color: rgb(255\, 255\, 255)\;">ECLIPTIC BREWING will be in the house for a COSMIC tap takeover Saturday February 24th at 6pm. Music will start at 7pm and will be provided by Isaac Lornitzo and Chris Kirsch (Big Blue Van)&nbsp\;</span><br style="color: rgb(75\, 79\, 86)\; font-family: Helvetica\, Arial\, sans-serif\; font-size: 14px\; background-color: rgb(255\, 255\, 255)\;" />\n<span style="color: rgb(75\, 79\, 86)\; font-family: Helvetica\, Arial\, sans-serif\; font-size: 14px\; background-color: rgb(255\, 255\, 255)\;">So come on down and enjoy a CONSTELLATION of great beers STARBURST-ing with a HYPERNOVA of flavors. Don&rsquo\;t miss it because this event will be out of this world!</span>
LOCATION:pin Hide Map The Tap Room 103 E Wishkah St\, Aberdeen\, Washington 98520
UID:e.26.9521
SEQUENCE:3
DTSTAMP:20260425T132527Z
URL:https://chamber.graysharbor.org/events/details/ecliptic-brewing-tap-takeover-9521
END:VEVENT

END:VCALENDAR
