BEGIN:VCALENDAR
VERSION:2.0
PRODID:-//ChamberMaster//Event Calendar 2.0//EN
METHOD:PUBLISH
X-PUBLISHED-TTL:P3D
REFRESH-INTERVAL:P3D
CALSCALE:GREGORIAN
BEGIN:VEVENT
DTSTART:20200115T013000Z
DTEND:20200115T023000Z
X-MICROSOFT-CDO-ALLDAYEVENT:FALSE
SUMMARY:Education Event: Meal Planning Essentials
DESCRIPTION:Summit Pacific Hosting Free Education Event January 14\n\n \n\nSummit Pacific is hosting a free education event Tuesday January 14\, 5:30 p.m. in Summit Pacific Wellness Center's Ortquist Conference Room 1. The topic is "Meal Planning Essentials." The event is free and open to the public\, no RSVP required.\n\n\n\nSarah Carossino\, registered dietitian at Summit Pacific will be presenting on the benefits of planning meals ahead of time\, how to build nutritious meals\, and sharing resources for finding coupons\, new meals and new recipe ideas.\n\n\n\nSummit Pacific hosts educational events\, cooking classes\, fitness classes and support groups on a rotating monthly basis. Please visit Summit Pacific on Facebook\, or online at https://summitpacificmedicalcenter.org/ for information on all upcoming events.
X-ALT-DESC;FMTTYPE=text/html:<span style="font-family:arial\;"><span style="font-size:14px\;"><strong>Summit Pacific Hosting Free Education Event January 14</strong><br />\n&nbsp\;<br />\nSummit Pacific is hosting a free education event Tuesday January 14\, 5:30 p.m. in Summit Pacific Wellness Center&rsquo\;s Ortquist Conference Room 1. The topic is &ldquo\;Meal Planning Essentials.&rdquo\; The event is free and open to the public\, no RSVP required.<br />\n<br />\nSarah Carossino\, registered dietitian at Summit Pacific will be presenting on the benefits of planning meals ahead of time\, how to build nutritious meals\, and sharing resources for finding coupons\, new meals and new recipe ideas.<br />\n<br />\nSummit Pacific hosts educational events\, cooking classes\, fitness classes and support groups on a rotating monthly basis. Please visit Summit Pacific on Facebook\, or online at&nbsp\;<a data-saferedirecturl="https://www.google.com/url?q=https://summitpacificmedicalcenter.org/&amp\;source=gmail&amp\;ust=1578431640379000&amp\;usg=AFQjCNEmemXyQfi7ISlJWvKZa_yRIxXusg" href="https://summitpacificmedicalcenter.org/" style="color:rgb(17\, 85\, 204)\;" target="_blank">https://<wbr />summitpacificmedicalcenter.<wbr />org/</a>&nbsp\;for information on all upcoming events.&nbsp\;</span></span>
LOCATION:Summit Pacific Wellness Center's Ortquist Conference Room 1 600 East Main St. Elma\, WA
UID:e.26.12348
SEQUENCE:3
DTSTAMP:20260424T041909Z
URL:https://chamber.graysharbor.org/events/details/education-event-meal-planning-essentials-12348
END:VEVENT

END:VCALENDAR
