BEGIN:VCALENDAR
VERSION:2.0
PRODID:-//ChamberMaster//Event Calendar 2.0//EN
METHOD:PUBLISH
X-PUBLISHED-TTL:P3D
REFRESH-INTERVAL:P3D
CALSCALE:GREGORIAN
BEGIN:VEVENT
DTSTART:20191208T033000Z
DTEND:20191208T050000Z
X-MICROSOFT-CDO-ALLDAYEVENT:FALSE
SUMMARY:Elf (2003) at 7th St.
DESCRIPTION:Rated PG\n\nBuddy (Will Ferrell) is the ultimate fish out of water. He crawled into Santa's toy sack as a baby\, was whisked off to the North Pole\, and raised as an elf.\n\nBuddy doesn't exactly fit in.\n\nWhen he grows to be three times the size of his elf family\, Buddy suddenly discovers he's not only not an elf\, but he has a different father\, too. So he heads to his birthplace of New York City to find his roots and the family he's never known. They turn out to be a Scrooge-like father (James Caan) and a cynical eight-year-old stepbrother who doesn't believe in Santa.\n\nEven worse\, everyone seems to have forgotten the true meaning of Christmas. \n\nBut that doesn't stop Buddy from fully embracing his new dad   and experiencing New York City and human culture as only an elf can. Using his simple elf ways\, Buddy sets out to win over his family and save Christmas in New York\, hoping to finally find his true place in the world.\n\nSomeone need a hug?\n\nStarring Will Ferrell\, James Caan\, Mary Steenburgen\, Ed Asner\, and Bob Newhart. \n\nLocally sponsored by Chateau Westport Resort\, Coffeeman\, Dominos.com\, Family Medicine of Grays Harbor\, Grays Harbor College\, Great Northwest Credit Union\, Hanner Enterprises/McDonald's\, Harrison Family Mortuary\, Ray Kahler and Callie White\, Lytle Seafoods\, Oceana Spa\, Pasha Automotive Services\, Quigg Bros.\, Inc\, Twin Star Credit Union\, Valentine Law Office\, Wunderland Childcare\, Alpha Media Grays Harbor\, and Jodesha Broadcasting.
X-ALT-DESC;FMTTYPE=text/html:<h3 style="box-sizing: border-box\; font-family: &quot\;Helvetica Neue&quot\;\, Helvetica\, Arial\, sans-serif\; line-height: 1.1\; margin-top: 20px\; margin-bottom: 10px\; font-size: 24px\;"><span style="font-size:14px\;"><span style="font-family:arial\;">Rated PG</span></span></h3>\n\n<p style="box-sizing: border-box\; margin: 0px 0px 10px\; font-family: &quot\;Helvetica Neue&quot\;\, Helvetica\, Arial\, sans-serif\; font-size: 14px\;"><span style="font-size:14px\;"><span style="font-family:arial\;">Buddy (Will Ferrell) is the ultimate fish out of water. He crawled into Santa&rsquo\;s toy sack as a baby\, was whisked off to the North Pole\, and raised as an elf.</span></span></p>\n\n<p style="box-sizing: border-box\; margin: 0px 0px 10px\; font-family: &quot\;Helvetica Neue&quot\;\, Helvetica\, Arial\, sans-serif\; font-size: 14px\;"><span style="font-size:14px\;"><span style="font-family:arial\;">Buddy doesn&rsquo\;t exactly fit in.</span></span></p>\n\n<p style="box-sizing: border-box\; margin: 0px 0px 10px\; font-family: &quot\;Helvetica Neue&quot\;\, Helvetica\, Arial\, sans-serif\; font-size: 14px\;"><span style="font-size:14px\;"><span style="font-family:arial\;">When he grows to be three times the size of his elf family\, Buddy suddenly discovers he&rsquo\;s not only&nbsp\;<em style="box-sizing: border-box\;">not&nbsp\;</em>an elf\, but he has a different father\, too. So he heads to his birthplace of New York City to find his roots and the family he&rsquo\;s never known. They turn out to be a Scrooge-like father (James Caan) and a cynical eight-year-old stepbrother who doesn&rsquo\;t believe in Santa.</span></span></p>\n\n<p style="box-sizing: border-box\; margin: 0px 0px 10px\; font-family: &quot\;Helvetica Neue&quot\;\, Helvetica\, Arial\, sans-serif\; font-size: 14px\;"><span style="font-size:14px\;"><span style="font-family:arial\;">Even worse\, everyone seems to have forgotten the true meaning of Christmas.&nbsp\;</span></span></p>\n\n<p style="box-sizing: border-box\; margin: 0px 0px 10px\; font-family: &quot\;Helvetica Neue&quot\;\, Helvetica\, Arial\, sans-serif\; font-size: 14px\;"><span style="font-size:14px\;"><span style="font-family:arial\;">But that doesn&rsquo\;t stop Buddy from fully embracing his new dad &ndash\; and experiencing New York City and human culture as only an elf can. Using his simple elf ways\, Buddy sets out to win over his family and save Christmas in New York\, hoping to finally find his true place in the world.</span></span></p>\n\n<p style="box-sizing: border-box\; margin: 0px 0px 10px\; font-family: &quot\;Helvetica Neue&quot\;\, Helvetica\, Arial\, sans-serif\; font-size: 14px\;"><span style="font-size:14px\;"><span style="font-family:arial\;"><em style="box-sizing: border-box\;">Someone need a hug?</em></span></span></p>\n\n<p style="box-sizing: border-box\; margin: 0px 0px 10px\; font-family: &quot\;Helvetica Neue&quot\;\, Helvetica\, Arial\, sans-serif\; font-size: 14px\;"><span style="font-size:14px\;"><span style="font-family:arial\;">Starring Will Ferrell\, James Caan\, Mary Steenburgen\, Ed Asner\, and Bob Newhart.&nbsp\;</span></span></p>\n\n<p style="box-sizing: border-box\; margin: 0px 0px 10px\; font-family: &quot\;Helvetica Neue&quot\;\, Helvetica\, Arial\, sans-serif\; font-size: 14px\;"><span style="font-size:14px\;"><span style="font-family:arial\;">Locally sponsored by Chateau Westport Resort\, Coffeeman\, Dominos.com\, Family Medicine of Grays Harbor\, Grays Harbor College\, Great Northwest Credit Union\, Hanner Enterprises/McDonald&rsquo\;s\, Harrison Family Mortuary\, Ray Kahler and Callie White\, Lytle Seafoods\, Oceana Spa\, Pasha Automotive Services\, Quigg Bros.\, Inc\, Twin Star Credit Union\, Valentine Law Office\, Wunderland Childcare\, Alpha Media Grays Harbor\, and Jodesha Broadcasting.</span></span></p>\n
LOCATION:7th St Theatre Hoquiam\, WA
UID:e.26.12279
SEQUENCE:3
DTSTAMP:20260423T235648Z
URL:https://chamber.graysharbor.org/events/details/elf-2003-at-7th-st-12279
END:VEVENT

END:VCALENDAR
