BEGIN:VCALENDAR
VERSION:2.0
PRODID:-//ChamberMaster//Event Calendar 2.0//EN
METHOD:PUBLISH
X-PUBLISHED-TTL:P3D
REFRESH-INTERVAL:P3D
CALSCALE:GREGORIAN
BEGIN:VEVENT
DTSTART:20181220T020000Z
DTEND:20181220T030000Z
X-MICROSOFT-CDO-ALLDAYEVENT:FALSE
SUMMARY:Elf Academy Family Fun Night
DESCRIPTION:Elf Academy Family Fun Night\n\n\n\n\n\n\n\nBring your kiddos and have fun earning your elf badge! Letters to Santa\, games\, cookie decorating\, crafts\, and much more! Don't miss seeing Santa and getting those great pics!
X-ALT-DESC;FMTTYPE=text/html:<h1 class="_5gmx" data-testid="event-permalink-event-name" id="seo_h1_tag" style="color: rgb(29\, 33\, 41)\; font-size: 20px\; font-weight: normal\; margin: 0px 12px 0px 0px\; padding: 0px\; line-height: 28px\; font-family: system-ui\, -apple-system\, BlinkMacSystemFont\, &quot\;.SFNSText-Regular&quot\;\, sans-serif\; caret-color: rgb(29\, 33\, 41)\;">Elf Academy Family Fun Night</h1>\n\n<div id="u_fetchstream_4_r" style="font-family: system-ui\, -apple-system\, BlinkMacSystemFont\, &quot\;.SFNSText-Regular&quot\;\, sans-serif\; caret-color: rgb(29\, 33\, 41)\; color: rgb(29\, 33\, 41)\; font-size: 12px\;">\n<div style="font-family: inherit\;">\n<div class="_4l8o _4-u2  _4-u8" style="border-width: 1px 0px\; border-style: solid\; border-color: transparent\; border-top-left-radius: 3px\; border-top-right-radius: 3px\; border-bottom-right-radius: 3px\; border-bottom-left-radius: 3px\; background-color: rgb(255\, 255\, 255)\; margin-bottom: 8px\; width: 500px\; position: relative\; font-family: inherit\;">\n<div class="_62hs _4-u3" style="border-top-width: 1px\; border-top-style: solid\; border-top-color: rgb(229\, 229\, 229)\; border-bottom-left-radius: 3px\; border-bottom-right-radius: 3px\; font-family: inherit\;">\n<div class="_63es _63et" style="font-family: inherit\;">\n<div class="_63eu" style="box-sizing: border-box\; font-size: 14px\; max-height: 260px\; overflow: hidden\; padding: 12px\; word-wrap: break-word\; font-family: inherit\;">\n<div class="_63ew" data-testid="event-permalink-details" style="font-family: inherit\;"><span style="font-family: inherit\;">Bring your kiddos and have fun earning your elf badge! Letters to Santa\, games\, cookie decorating\, crafts\, and much more! Don&#39\;t miss seeing Santa and getting those great pics!</span></div>\n</div>\n</div>\n</div>\n</div>\n</div>\n</div>\n
LOCATION:pin Simpson Avenue Elementary 519 W Simpson Ave\, Montesano\, Washington 98563
UID:e.26.11359
SEQUENCE:3
DTSTAMP:20260424T210807Z
URL:https://chamber.graysharbor.org/events/details/elf-academy-family-fun-night-11359
END:VEVENT

END:VCALENDAR
