BEGIN:VCALENDAR
VERSION:2.0
PRODID:-//ChamberMaster//Event Calendar 2.0//EN
METHOD:PUBLISH
X-PUBLISHED-TTL:P3D
REFRESH-INTERVAL:P3D
CALSCALE:GREGORIAN
BEGIN:VEVENT
DTSTART:20190615T150000Z
DTEND:20190615T200000Z
X-MICROSOFT-CDO-ALLDAYEVENT:FALSE
SUMMARY:Elma Football Booster Annual Golf Tournament
DESCRIPTION:Annual golf tournament. All Players and parents to help with this event and enjoy a day of golf.
X-ALT-DESC;FMTTYPE=text/html:<span style="caret-color: rgb(29\, 33\, 41)\; color: rgb(29\, 33\, 41)\; font-family: system-ui\, -apple-system\, BlinkMacSystemFont\, &quot\;.SFNSText-Regular&quot\;\, sans-serif\; font-size: 14px\; white-space: pre-wrap\;">Annual golf tournament. All Players and parents to help with this event and enjoy a day of golf.</span>
LOCATION:pin 1052 Monte-Elma Rd\, Elma\, WA 98541\, United States
UID:e.26.12033
SEQUENCE:3
DTSTAMP:20260424T121157Z
URL:https://chamber.graysharbor.org/events/details/elma-football-booster-annual-golf-tournament-12033
END:VEVENT

END:VCALENDAR
