BEGIN:VCALENDAR
VERSION:2.0
PRODID:-//ChamberMaster//Event Calendar 2.0//EN
METHOD:PUBLISH
X-PUBLISHED-TTL:P3D
REFRESH-INTERVAL:P3D
CALSCALE:GREGORIAN
BEGIN:VEVENT
DTSTART:20190803T160000Z
DTEND:20190803T220000Z
X-MICROSOFT-CDO-ALLDAYEVENT:FALSE
SUMMARY:Elma Heat on the Street Show 'n Shine
DESCRIPTION:Cruise-In to Elma for the 11th Annual "Heat on the Street" Custom Car & Motorcycle Show. Show & Shine on Main Street starts at 9:00 a.m. on Saturday\, August 3rd. \n\n\n\nEnjoy music and take a chance on many great raffle items\, check out the vendor booths\, food booths\, downtown shopping and beautiful cars\, trucks and motorcycles! Enjoy wine tasting from Heymann Whinery from 11a-3p. Saturday night don't miss Pepsi Night at Grays Harbor Raceway featuring 360 Sprints\, Midgets\, Street Stocks and Outlaw Tuners.\n\n\n\nOver 20 awards in many classes will be presented at 3 p.m. so be sure and vote for your favorite car! \n\n\n\nStart your morning by Joining in on the Feet on the Street 5k Fun Run at Anytime Fitness (contact Anytime Fitness\, Elma for details). Pick up breakfast at Elma Foe Eagles or one of the many eateries in town. \n\n\n\nThanks to Cut Rate Auto Parts - Elma\, Eagles Landing Development\, Grays Harbor Raceway\, City of Elma\, Grays Harbor Tourism and Jason Olson & Family for sponsoring this event and to the many businesses that donate prizes and sponsor awards. For information visit www.elmachamber.org or call the Elma Chamber of Commerce at 360-482-3055.
X-ALT-DESC;FMTTYPE=text/html:<span style="font-size:14px\;"><span style="caret-color: rgb(29\, 33\, 41)\; color: rgb(29\, 33\, 41)\; font-family: system-ui\, -apple-system\, BlinkMacSystemFont\, &quot\;.SFNSText-Regular&quot\;\, sans-serif\; white-space: pre-wrap\; background-color: rgb(255\, 255\, 255)\;">Cruise-In to Elma for the 11th Annual &ldquo\;Heat on the Street&rdquo\; Custom Car &amp\; Motorcycle Show. Show &amp\; Shine on Main Street starts at 9:00 a.m. on Saturday\, August 3rd. </span><br style="caret-color: rgb(29\, 33\, 41)\; color: rgb(29\, 33\, 41)\; font-family: system-ui\, -apple-system\, BlinkMacSystemFont\, &quot\;.SFNSText-Regular&quot\;\, sans-serif\; font-size: 14px\; white-space: pre-wrap\;" />\n<br style="caret-color: rgb(29\, 33\, 41)\; color: rgb(29\, 33\, 41)\; font-family: system-ui\, -apple-system\, BlinkMacSystemFont\, &quot\;.SFNSText-Regular&quot\;\, sans-serif\; font-size: 14px\; white-space: pre-wrap\;" />\n<span style="caret-color: rgb(29\, 33\, 41)\; color: rgb(29\, 33\, 41)\; font-family: system-ui\, -apple-system\, BlinkMacSystemFont\, &quot\;.SFNSText-Regular&quot\;\, sans-serif\; white-space: pre-wrap\; background-color: rgb(255\, 255\, 255)\;">Enjoy music and take a chance on many great raffle items\, check out the vendor booths\, food booths\, downtown shopping and beautiful cars\, trucks and motorcycles! Enjoy wine tasting from </span><a href="https://www.facebook.com/Heymann-Whinery-115921716412/" style="color: rgb(56\, 88\, 152)\; cursor: pointer\; text-decoration: none\; font-family: system-ui\, -apple-system\, BlinkMacSystemFont\, &quot\;.SFNSText-Regular&quot\;\, sans-serif\; font-size: 14px\; white-space: pre-wrap\;" target="_blank">Heymann Whinery</a><span style="caret-color: rgb(29\, 33\, 41)\; color: rgb(29\, 33\, 41)\; font-family: system-ui\, -apple-system\, BlinkMacSystemFont\, &quot\;.SFNSText-Regular&quot\;\, sans-serif\; white-space: pre-wrap\; background-color: rgb(255\, 255\, 255)\;"> from 11a-3p. Saturday night don&rsquo\;t miss Pepsi Night at Grays Harbor Raceway featuring 360 Sprints\, Midgets\, Street Stocks and Outlaw Tuners.</span><br style="caret-color: rgb(29\, 33\, 41)\; color: rgb(29\, 33\, 41)\; font-family: system-ui\, -apple-system\, BlinkMacSystemFont\, &quot\;.SFNSText-Regular&quot\;\, sans-serif\; font-size: 14px\; white-space: pre-wrap\;" />\n<br style="caret-color: rgb(29\, 33\, 41)\; color: rgb(29\, 33\, 41)\; font-family: system-ui\, -apple-system\, BlinkMacSystemFont\, &quot\;.SFNSText-Regular&quot\;\, sans-serif\; font-size: 14px\; white-space: pre-wrap\;" />\n<span style="caret-color: rgb(29\, 33\, 41)\; color: rgb(29\, 33\, 41)\; font-family: system-ui\, -apple-system\, BlinkMacSystemFont\, &quot\;.SFNSText-Regular&quot\;\, sans-serif\; white-space: pre-wrap\; background-color: rgb(255\, 255\, 255)\;">Over 20 awards in many classes will be presented at 3 p.m. so be sure and vote for your favorite car! </span><br style="caret-color: rgb(29\, 33\, 41)\; color: rgb(29\, 33\, 41)\; font-family: system-ui\, -apple-system\, BlinkMacSystemFont\, &quot\;.SFNSText-Regular&quot\;\, sans-serif\; font-size: 14px\; white-space: pre-wrap\;" />\n<br style="caret-color: rgb(29\, 33\, 41)\; color: rgb(29\, 33\, 41)\; font-family: system-ui\, -apple-system\, BlinkMacSystemFont\, &quot\;.SFNSText-Regular&quot\;\, sans-serif\; font-size: 14px\; white-space: pre-wrap\;" />\n<span style="caret-color: rgb(29\, 33\, 41)\; color: rgb(29\, 33\, 41)\; font-family: system-ui\, -apple-system\, BlinkMacSystemFont\, &quot\;.SFNSText-Regular&quot\;\, sans-serif\; white-space: pre-wrap\; background-color: rgb(255\, 255\, 255)\;">Start your morning by Joining in on the Feet on the Street 5k Fun Run at Anytime Fitness (contact </span><a href="https://www.facebook.com/elmafitness/" style="color: rgb(56\, 88\, 152)\; cursor: pointer\; text-decoration: none\; font-family: system-ui\, -apple-system\, BlinkMacSystemFont\, &quot\;.SFNSText-Regular&quot\;\, sans-serif\; font-size: 14px\; white-space: pre-wrap\;" target="_blank">Anytime Fitness\, Elma</a><span style="caret-color: rgb(29\, 33\, 41)\; color: rgb(29\, 33\, 41)\; font-family: system-ui\, -apple-system\, BlinkMacSystemFont\, &quot\;.SFNSText-Regular&quot\;\, sans-serif\; white-space: pre-wrap\; background-color: rgb(255\, 255\, 255)\;"> for details). Pick up breakfast at </span><a href="https://www.facebook.com/elma.eagles.7" style="color: rgb(56\, 88\, 152)\; cursor: pointer\; text-decoration: none\; font-family: system-ui\, -apple-system\, BlinkMacSystemFont\, &quot\;.SFNSText-Regular&quot\;\, sans-serif\; font-size: 14px\; white-space: pre-wrap\;" target="_blank">Elma Foe Eagles</a><span style="caret-color: rgb(29\, 33\, 41)\; color: rgb(29\, 33\, 41)\; font-family: system-ui\, -apple-system\, BlinkMacSystemFont\, &quot\;.SFNSText-Regular&quot\;\, sans-serif\; white-space: pre-wrap\; background-color: rgb(255\, 255\, 255)\;"> or one of the many eateries in town. </span><br style="caret-color: rgb(29\, 33\, 41)\; color: rgb(29\, 33\, 41)\; font-family: system-ui\, -apple-system\, BlinkMacSystemFont\, &quot\;.SFNSText-Regular&quot\;\, sans-serif\; font-size: 14px\; white-space: pre-wrap\;" />\n<br style="caret-color: rgb(29\, 33\, 41)\; color: rgb(29\, 33\, 41)\; font-family: system-ui\, -apple-system\, BlinkMacSystemFont\, &quot\;.SFNSText-Regular&quot\;\, sans-serif\; font-size: 14px\; white-space: pre-wrap\;" />\n<span style="caret-color: rgb(29\, 33\, 41)\; color: rgb(29\, 33\, 41)\; font-family: system-ui\, -apple-system\, BlinkMacSystemFont\, &quot\;.SFNSText-Regular&quot\;\, sans-serif\; white-space: pre-wrap\; background-color: rgb(255\, 255\, 255)\;">Thanks to </span><a href="https://www.facebook.com/cutrateautopartselma/" style="color: rgb(56\, 88\, 152)\; cursor: pointer\; text-decoration: none\; font-family: system-ui\, -apple-system\, BlinkMacSystemFont\, &quot\;.SFNSText-Regular&quot\;\, sans-serif\; font-size: 14px\; white-space: pre-wrap\;" target="_blank">Cut Rate Auto Parts - Elma</a><span style="caret-color: rgb(29\, 33\, 41)\; color: rgb(29\, 33\, 41)\; font-family: system-ui\, -apple-system\, BlinkMacSystemFont\, &quot\;.SFNSText-Regular&quot\;\, sans-serif\; white-space: pre-wrap\; background-color: rgb(255\, 255\, 255)\;">\, Eagles Landing Development\, </span><a href="https://www.facebook.com/GHRaceway/" style="color: rgb(56\, 88\, 152)\; cursor: pointer\; text-decoration: none\; font-family: system-ui\, -apple-system\, BlinkMacSystemFont\, &quot\;.SFNSText-Regular&quot\;\, sans-serif\; font-size: 14px\; white-space: pre-wrap\;" target="_blank">Grays Harbor Raceway</a><span style="caret-color: rgb(29\, 33\, 41)\; color: rgb(29\, 33\, 41)\; font-family: system-ui\, -apple-system\, BlinkMacSystemFont\, &quot\;.SFNSText-Regular&quot\;\, sans-serif\; white-space: pre-wrap\; background-color: rgb(255\, 255\, 255)\;">\, City of Elma\, </span><a href="https://www.facebook.com/GraysHarborTourism/" style="color: rgb(56\, 88\, 152)\; cursor: pointer\; text-decoration: none\; font-family: system-ui\, -apple-system\, BlinkMacSystemFont\, &quot\;.SFNSText-Regular&quot\;\, sans-serif\; font-size: 14px\; white-space: pre-wrap\;" target="_blank">Grays Harbor Tourism</a><span style="caret-color: rgb(29\, 33\, 41)\; color: rgb(29\, 33\, 41)\; font-family: system-ui\, -apple-system\, BlinkMacSystemFont\, &quot\;.SFNSText-Regular&quot\;\, sans-serif\; white-space: pre-wrap\; background-color: rgb(255\, 255\, 255)\;"> and Jason Olson &amp\; Family for sponsoring this event and to the many businesses that donate prizes and sponsor awards. For information visit </span><a data-lynx-mode="hover" data-lynx-uri="https://l.facebook.com/l.php?u=http%3A%2F%2Fwww.elmachamber.org%2F%3Ffbclid%3DIwAR2j14vST0fOMG_391ukFhuTAYVqNUvUrq4KgaghG7StubSXV63JIl8Hd4Y&amp\;h=AT2yUk_b6eKzTLIprK5pGCGhqfbP3rFqwWqxjZZJ5HdpSPOdcBZfpSMfvLIYZmO_Cv8HfvSPTPlRjAF_iEQvkMDD1tsAyTwEbqqcs1fL4ZT2ZY6ybCOHEgxJF4Twr-1RVur8QnwkTg" href="http://www.elmachamber.org/?fbclid=IwAR2j14vST0fOMG_391ukFhuTAYVqNUvUrq4KgaghG7StubSXV63JIl8Hd4Y" rel="nofollow noopener" style="color: rgb(56\, 88\, 152)\; cursor: pointer\; text-decoration: none\; font-family: system-ui\, -apple-system\, BlinkMacSystemFont\, &quot\;.SFNSText-Regular&quot\;\, sans-serif\; font-size: 14px\; white-space: pre-wrap\;" target="_blank">www.elmachamber.org</a><span style="caret-color: rgb(29\, 33\, 41)\; color: rgb(29\, 33\, 41)\; font-family: system-ui\, -apple-system\, BlinkMacSystemFont\, &quot\;.SFNSText-Regular&quot\;\, sans-serif\; white-space: pre-wrap\; background-color: rgb(255\, 255\, 255)\;"> or call the </span><a href="https://www.facebook.com/Elma-Chamber-of-Commerce-136972819676226/" style="color: rgb(56\, 88\, 152)\; cursor: pointer\; text-decoration: none\; font-family: system-ui\, -apple-system\, BlinkMacSystemFont\, &quot\;.SFNSText-Regular&quot\;\, sans-serif\; font-size: 14px\; white-space: pre-wrap\;" target="_blank">Elma Chamber of Commerce</a><span style="caret-color: rgb(29\, 33\, 41)\; color: rgb(29\, 33\, 41)\; font-family: system-ui\, -apple-system\, BlinkMacSystemFont\, &quot\;.SFNSText-Regular&quot\;\, sans-serif\; white-space: pre-wrap\; background-color: rgb(255\, 255\, 255)\;"> at 360-482-3055. </span></span>
LOCATION:pin Main St\, Elma\, WA 98541\, United States
UID:e.26.12118
SEQUENCE:3
DTSTAMP:20260424T090847Z
URL:https://chamber.graysharbor.org/events/details/elma-heat-on-the-street-show-n-shine-12118
END:VEVENT

END:VCALENDAR
