BEGIN:VCALENDAR
VERSION:2.0
PRODID:-//ChamberMaster//Event Calendar 2.0//EN
METHOD:PUBLISH
X-PUBLISHED-TTL:P3D
REFRESH-INTERVAL:P3D
CALSCALE:GREGORIAN
BEGIN:VEVENT
DTSTART;VALUE=DATE:20171117
DTEND;VALUE=DATE:20171120
TRANSP:TRANSPARENT
X-MICROSOFT-CDO-ALLDAYEVENT:TRUE
SUMMARY:Elma's Bazaar Weekend/Craft Fair
DESCRIPTION:Crafts\, gifts and food at the Elma Grange and locations in downtown Elma
X-ALT-DESC;FMTTYPE=text/html:Crafts\, gifts and food at the Elma Grange and locations in downtown Elma
LOCATION:Elma Grange and locations in downtown Elma
UID:e.26.7645
SEQUENCE:3
DTSTAMP:20260425T181107Z
URL:https://chamber.graysharbor.org/events/details/elma-s-bazaar-weekend-craft-fair-7645
END:VEVENT

END:VCALENDAR
