BEGIN:VCALENDAR
VERSION:2.0
PRODID:-//ChamberMaster//Event Calendar 2.0//EN
METHOD:PUBLISH
X-PUBLISHED-TTL:P3D
REFRESH-INTERVAL:P3D
CALSCALE:GREGORIAN
BEGIN:VEVENT
DTSTART:20191203T190000Z
DTEND:20191203T200000Z
X-MICROSOFT-CDO-ALLDAYEVENT:FALSE
SUMMARY:Elma's Taco Ribbon Cutting
DESCRIPTION:The Greater Grays Harbor Ambassador Team will be hosting a ribbon cutting for Elma's Taco on Tuesday\, December 3rd at 11am. This brand new business is located at 43 Tower Boulevard in Elma\, WA (The Satsop Business Park). Make sure to come out and show them your support and grab a delicious taco or two for the road!
X-ALT-DESC;FMTTYPE=text/html:<span style="font-size:14px\;"><span style="caret-color: rgb(28\, 30\, 33)\; color: rgb(28\, 30\, 33)\; font-family: system-ui\, -apple-system\, BlinkMacSystemFont\, &quot\;.SFNSText-Regular&quot\;\, sans-serif\; white-space: pre-wrap\;">The Greater Grays Harbor Ambassador Team will be hosting a ribbon cutting for Elma&rsquo\;s Taco on Tuesday\, December 3rd at 11am. This brand new business is located at 43 Tower Boulevard in Elma\, WA (The Satsop Business Park). Make sure to come out and show them your support and grab a delicious taco or two for the road!</span></span>
LOCATION:43 Tower Boulevard Elma\, WA (The Satsop Business Park)
UID:e.26.12308
SEQUENCE:3
DTSTAMP:20260424T000315Z
URL:https://chamber.graysharbor.org/events/details/elma-s-taco-ribbon-cutting-12308
END:VEVENT

END:VCALENDAR
