BEGIN:VCALENDAR
VERSION:2.0
PRODID:-//ChamberMaster//Event Calendar 2.0//EN
METHOD:PUBLISH
X-PUBLISHED-TTL:P3D
REFRESH-INTERVAL:P3D
CALSCALE:GREGORIAN
BEGIN:VEVENT
DTSTART:20180120T200000Z
DTEND:20180121T050000Z
X-MICROSOFT-CDO-ALLDAYEVENT:FALSE
SUMMARY:Elma's Winter Wine Festival
DESCRIPTION:The 11th Annual Winter Wine Festival is Saturday\, January 20th from noon-9 PM at the GHC Fair and Event Center. Come and enjoy wine tasting\, beer garden\, wine sales\, food booths\, gifts & merchandise\, silent auction\, and live entertainment throughout the day. Vist our web site for more informationwww.elmachamber.org or call the Chamber Office: 360-482-3055. We hope to see you there!
X-ALT-DESC;FMTTYPE=text/html:<span style="color: rgb(75\, 79\, 86)\; font-family: Helvetica\, Arial\, sans-serif\; font-size: 14px\; background-color: rgb(255\, 255\, 255)\;">The 11th Annual Winter Wine Festival is Saturday\, January 20th from noon-9 PM at the GHC Fair and Event Center. Come and enjoy wine tasting\, beer garden\, wine sales\, food booths\, gifts &amp\; merchandise\, silent auction\, and live entertainment throughout the day. Vist our web site for more information</span><a data-lynx-mode="async" href="https://l.facebook.com/l.php?u=http%3A%2F%2Fwww.elmachamber.org%2F&amp\;h=ATMctzzKnIBNkbf3TuwCENwKsYnUWysDNs8DlyQ6qUioqXSrGl_sHccgBDlPR9cnYlgsFdPIsqzPzqxf7K4Vnta4r4_xGPkLfutnU74o82i08pCyLZ0TGvvxb4gSH-LYttBtBQKq8DTn_FEgtku7WBGxryG-SsE_TMMBA1e7XTjgt1a8WwSyGWdewTu_NeSG" rel="nofollow noopener" style="color: rgb(54\, 88\, 153)\; cursor: pointer\; text-decoration-line: none\; font-family: Helvetica\, Arial\, sans-serif\; font-size: 14px\; background-color: rgb(255\, 255\, 255)\;" target="_blank">www.elmachamber.org</a><span style="color: rgb(75\, 79\, 86)\; font-family: Helvetica\, Arial\, sans-serif\; font-size: 14px\; background-color: rgb(255\, 255\, 255)\;">&nbsp\;or call the Chamber Office: 360-482-3055. We hope to see you there!</span>
LOCATION:Grays Harbor Fairgrounds Elma\, WA
UID:e.26.9438
SEQUENCE:3
DTSTAMP:20260425T164119Z
URL:https://chamber.graysharbor.org/events/details/elma-s-winter-wine-festival-9438
END:VEVENT

END:VCALENDAR
