BEGIN:VCALENDAR
VERSION:2.0
PRODID:-//ChamberMaster//Event Calendar 2.0//EN
METHOD:PUBLISH
X-PUBLISHED-TTL:P3D
REFRESH-INTERVAL:P3D
CALSCALE:GREGORIAN
BEGIN:VEVENT
DTSTART:20190620T233000Z
DTEND:20190621T000000Z
X-MICROSOFT-CDO-ALLDAYEVENT:FALSE
SUMMARY:Elma Starbucks Ribbon Cutting
DESCRIPTION:The brand new Elma Starbucks is hosting their official grand opening on Thursday\, June 20th at 4:30pm! They're located at 11 Eagle Dr. Suite A in Elma.\n\nHere's a list of the day's scheduled festivities:\n\n\n	3pm to close BOGO Grande and Venti Frappuccino's and Espresso\n	Beverages for My Starbucks Rewards members\n	4:30pm Ribbon Cutting Ceremony\n	5pm Coffee with Elma's Police Chief Susan Shultz\n	Meet with Grays Harbor and Elma's Fire Departments\n	My Starbucks Rewards sign up support\n	Coffee and food pairings\n\n\n The GGHI Ambassador's will happily be partnering with the Elma Chamber of Commerce as well\, so please come out and join in on the fun!
X-ALT-DESC;FMTTYPE=text/html:<div data-block="true" data-editor="e20q4" data-offset-key="3blmh-0-0" style="font-family: system-ui\, -apple-system\, BlinkMacSystemFont\, &quot\;.SFNSText-Regular&quot\;\, sans-serif\; caret-color: rgb(28\, 30\, 33)\; color: rgb(28\, 30\, 33)\; font-size: 12px\; white-space: pre-wrap\;">\n<div class="_1mf _1mj" data-offset-key="3blmh-0-0" style="position: relative\; direction: ltr\; font-family: inherit\;"><span style="font-size:14px\;"><span data-offset-key="3blmh-0-0" style="font-family: inherit\;">The brand new Elma Starbucks is hosting their official grand opening on Thursday\, June 20th at 4:30pm! They&#39\;re located at 11 Eagle Dr. Suite A in Elma.<br />\nHere&#39\;s a list of the day&#39\;s scheduled festivities:</span></span></div>\n\n<ul dir="ltr">\n	<li class="_1mf _1mj" data-offset-key="3blmh-0-0" style="position: relative\; font-family: inherit\;"><span style="font-size:14px\;"><span style="font-family:arial\;">3pm to close BOGO Grande and Venti Frappuccino&rsquo\;s and Espresso</span></span></li>\n	<li class="_1mf _1mj" data-offset-key="3blmh-0-0" style="position: relative\; font-family: inherit\;"><span style="font-size:14px\;"><span style="font-family:arial\;">Beverages for My Starbucks Rewards members</span></span></li>\n	<li class="_1mf _1mj" data-offset-key="3blmh-0-0" style="position: relative\; font-family: inherit\;"><span style="font-size:14px\;"><span style="font-family:arial\;">4:30pm Ribbon Cutting Ceremony</span></span></li>\n	<li class="_1mf _1mj" data-offset-key="3blmh-0-0" style="position: relative\; font-family: inherit\;"><span style="font-size:14px\;"><span style="font-family:arial\;">5pm Coffee with Elma&rsquo\;s Police Chief Susan Shultz</span></span></li>\n	<li class="_1mf _1mj" data-offset-key="3blmh-0-0" style="position: relative\; font-family: inherit\;"><span style="font-size:14px\;"><span style="font-family:arial\;">Meet with Grays Harbor and Elma&rsquo\;s Fire Departments</span></span></li>\n	<li class="_1mf _1mj" data-offset-key="3blmh-0-0" style="position: relative\; font-family: inherit\;"><span style="font-size:14px\;"><span style="font-family:arial\;">My Starbucks Rewards sign up support</span></span></li>\n	<li class="_1mf _1mj" data-offset-key="3blmh-0-0" style="position: relative\; font-family: inherit\;"><span style="font-size:14px\;"><span style="font-family:arial\;">Coffee and food pairings</span></span></li>\n</ul>\n\n<div class="_1mf _1mj" style="position: relative\; font-family: inherit\;"><span style="font-size:14px\;"><span style="font-family:arial\;">&#8203\;</span></span><span style="font-size:14px\;"><span data-offset-key="dle9l-0-0" style="font-family: inherit\;">The GGHI Ambassador&#39\;s will happily be partnering with the Elma Chamber of Commerce as well\, so please come out and join in on the fun!</span></span></div>\n</div>\n
LOCATION:New Elma Starbucks 11 Eagle Dr. Suite A Elma\, WA
UID:e.26.12050
SEQUENCE:3
DTSTAMP:20260424T120041Z
URL:https://chamber.graysharbor.org/events/details/elma-starbucks-ribbon-cutting-12050
END:VEVENT

END:VCALENDAR
